BEGIN:VCALENDAR
VERSION:2.0
PRODID:-//Demokratie Vielfalt Respekt - ECPv6.15.20//NONSGML v1.0//EN
CALSCALE:GREGORIAN
METHOD:PUBLISH
X-ORIGINAL-URL:https://www.demokratie-vielfalt-respekt.de
X-WR-CALDESC:Veranstaltungen für Demokratie Vielfalt Respekt
REFRESH-INTERVAL;VALUE=DURATION:PT1H
X-Robots-Tag:noindex
X-PUBLISHED-TTL:PT1H
BEGIN:VTIMEZONE
TZID:Europe/Berlin
BEGIN:DAYLIGHT
TZOFFSETFROM:+0100
TZOFFSETTO:+0200
TZNAME:CEST
DTSTART:20230326T010000
END:DAYLIGHT
BEGIN:STANDARD
TZOFFSETFROM:+0200
TZOFFSETTO:+0100
TZNAME:CET
DTSTART:20231029T010000
END:STANDARD
BEGIN:DAYLIGHT
TZOFFSETFROM:+0100
TZOFFSETTO:+0200
TZNAME:CEST
DTSTART:20240331T010000
END:DAYLIGHT
BEGIN:STANDARD
TZOFFSETFROM:+0200
TZOFFSETTO:+0100
TZNAME:CET
DTSTART:20241027T010000
END:STANDARD
BEGIN:DAYLIGHT
TZOFFSETFROM:+0100
TZOFFSETTO:+0200
TZNAME:CEST
DTSTART:20250330T010000
END:DAYLIGHT
BEGIN:STANDARD
TZOFFSETFROM:+0200
TZOFFSETTO:+0100
TZNAME:CET
DTSTART:20251026T010000
END:STANDARD
END:VTIMEZONE
BEGIN:VEVENT
DTSTART;TZID=Europe/Berlin:20240429T160000
DTEND;TZID=Europe/Berlin:20240429T180000
DTSTAMP:20260422T190410
CREATED:20240417T121250Z
LAST-MODIFIED:20240417T121250Z
UID:10000415-1714406400-1714413600@www.demokratie-vielfalt-respekt.de
SUMMARY:Starke Stimmen für Vielfalt: Mo Asumang zu Gast am WZB
DESCRIPTION:[vc_row][vc_column][vc_column_text]Mit Rechtsradikalen reden? Sie tut es. Mo Asumang sucht bewusst den Dialog. In ihrem vielfach ausgezeichneten Dokumentarfilm „Die Arier“ zeigt sich die Regisseurin und Moderatorin im Gespräch mit Rechtsextremen und entlarvt Hass mit aufrichtiger Neugier. Diese mutige Haltung bringt ihr immer wieder Hassnachrichten und Gewaltandrohungen ein – trotzdem macht sie weiter. \nAls erste afrodeutsche Moderatorin im deutschen Fernsehen erlangte Mo Asumang in den 1990er Jahren Bekanntheit. Heute leistet sie Aufklärungsarbeit\, regelmäßig spricht sie an Schulen und Universitäten und zeigt ihre Filme. Ihr Engagement beweist: Um eine offene Gesellschaft zu verteidigen\, muss man persönlich werden und Menschen im direkten Gespräch zu ihren Haltungen befragen\, sie hinterfragen oder bestärken\, je nachdem. \nWie begegnet man also Personen mit extremen Positionen\, die einem selbst sogar Verachtung entgegenbringen? Und wie bleibt man im Gespräch? WZB-Präsidentin Jutta Allmendinger wird mit Mo Asumang und Ihnen darüber reden. Eine Anmeldung zum Gespräch ist Online möglich.[/vc_column_text][/vc_column][/vc_row][vc_row][vc_column width=“2/3″][vc_column_text]Kontakt\nWissenschaftszentrum Berlin für Sozialforscung gGmbH\nAnsprechperson: Friederike Theilen-Kosch\nE-Mail: friederike.theilen-kosch@wzb.eu\nWeb: www.wzb.eu \nQuelle: www.wzb.de/veranstaltungen (17.04.2024)[/vc_column_text][/vc_column][vc_column width=“1/3″][vc_single_image source=“featured_image“][/vc_column][/vc_row]
URL:https://www.demokratie-vielfalt-respekt.de/veranstaltung/wzb-mo-asumang/
LOCATION:Wissenschaftszentrum Berlin für Sozialforschung gGmbH\, Reichpietschufer 50\, 10785
ATTACH;FMTTYPE=image/png:https://www.demokratie-vielfalt-respekt.de/wp-content/uploads/2024/04/Logo_Starke-Stimmen_WZB.png
END:VEVENT
END:VCALENDAR