BEGIN:VCALENDAR
VERSION:2.0
PRODID:-//Demokratie Vielfalt Respekt - ECPv6.15.20//NONSGML v1.0//EN
CALSCALE:GREGORIAN
METHOD:PUBLISH
X-WR-CALNAME:Demokratie Vielfalt Respekt
X-ORIGINAL-URL:https://www.demokratie-vielfalt-respekt.de
X-WR-CALDESC:Veranstaltungen für Demokratie Vielfalt Respekt
REFRESH-INTERVAL;VALUE=DURATION:PT1H
X-Robots-Tag:noindex
X-PUBLISHED-TTL:PT1H
BEGIN:VTIMEZONE
TZID:Europe/Berlin
BEGIN:DAYLIGHT
TZOFFSETFROM:+0100
TZOFFSETTO:+0200
TZNAME:CEST
DTSTART:20210328T010000
END:DAYLIGHT
BEGIN:STANDARD
TZOFFSETFROM:+0200
TZOFFSETTO:+0100
TZNAME:CET
DTSTART:20211031T010000
END:STANDARD
BEGIN:DAYLIGHT
TZOFFSETFROM:+0100
TZOFFSETTO:+0200
TZNAME:CEST
DTSTART:20220327T010000
END:DAYLIGHT
BEGIN:STANDARD
TZOFFSETFROM:+0200
TZOFFSETTO:+0100
TZNAME:CET
DTSTART:20221030T010000
END:STANDARD
BEGIN:DAYLIGHT
TZOFFSETFROM:+0100
TZOFFSETTO:+0200
TZNAME:CEST
DTSTART:20230326T010000
END:DAYLIGHT
BEGIN:STANDARD
TZOFFSETFROM:+0200
TZOFFSETTO:+0100
TZNAME:CET
DTSTART:20231029T010000
END:STANDARD
END:VTIMEZONE
BEGIN:VEVENT
DTSTART;VALUE=DATE:20221128
DTEND;VALUE=DATE:20221130
DTSTAMP:20260421T001512
CREATED:20221128T224303Z
LAST-MODIFIED:20221230T065035Z
UID:10000008-1669593600-1669766399@www.demokratie-vielfalt-respekt.de
SUMMARY:Demokratie: Jede Stimme zählt?!
DESCRIPTION:Diese Frage nach Gleichheit wird im Workshop auch im größeren Kontext im Hinblick auf gesellschaftliche Verhältnisse und U-18-Wahlen reflektiert werden. Wer darf seine/ihre Stimme abgeben und wer wird gehört? An diesen und weiteren Fragestellungen wird mit erfahrungsorientierten Aktivitäten aus dem Betzavta-Programm (eine Methode des Adam-Instituts) gearbeitet. Themen\, die reflektiert werden\, sind u. a. – Wer soll über Regeln entscheiden dürfen? Wer soll wählen\, wer soll nicht wählen dürfen? – Wie ist eine Struktur\, die allen ermöglicht\, ihr Wahlrecht auszuüben? – Was bedeutet es\, wenn die Mehrheit entscheidet? – Fünf Wege\, mit einer Minderheit umzugehen. – Wie kann der Transfer in die Praxis aussehen? Ziel ist es\, Jugend(sozial)arbeitern/-innen Aktivitäten vorzustellen\, die geeignet sind\, um mit Kindern und Jugendlichen die Teilhabe an demokratischen Aushandlungsprozessen zu reflektieren. Methoden: Aktivitäten in Gruppen und Reflektionsphasen im Plenum\, Kleingruppenarbeit\, Impulse. \nWeitere Informationen und die Möglichkeit zur Anmeldung bis zum 3. Oktober 2022 finden sich hier. \nQuelle: www.sfbb.berlin-brandenburg.de (19.07.2022) \nKontakt\nSozialpädagogisches Fortbildungsinstitut Berlin-Brandenburg (SFBB)\nAnsprechperson: Johanna Dietrich\nE-Mail: johanna.dietrich@sfbb.berlin-brandenburg.de
URL:https://www.demokratie-vielfalt-respekt.de/veranstaltung/demokratie-jede-stimme-zaehlt/
LOCATION:Jagdschloss Glienicke\, Königstraße 36b\, Berlin\, 14109
ORGANIZER;CN="Sozialp%C3%A4dagogisches Fortbildungsinstitut Berlin-Brandenburg (SFBB)":MAILTO:info@sfbb.Berlin-Brandenburg.de
END:VEVENT
BEGIN:VEVENT
DTSTART;VALUE=DATE:20221004
DTEND;VALUE=DATE:20221007
DTSTAMP:20260421T001512
CREATED:20221215T103536Z
LAST-MODIFIED:20221230T180746Z
UID:10000046-1664841600-1665100799@www.demokratie-vielfalt-respekt.de
SUMMARY:Wirkungsvolle Jugend(sozial)arbeit planen und umsetzen
DESCRIPTION:Angebote der Jugend- und Jugendsozialarbeit können mit gut durchdachten\, an die regionalen Bedarfe und Strukturen angepassten Konzepten weitreichende gesellschaftliche Wirkungen erzielen. Gerade in kommunalen Haushaltsdebatten werden jedoch die tatsächlichen Wirkungen von Bildungs- und Präventionsangeboten oftmals in Frage gestellt. Träger der Jugendhilfe sind in der Verantwortung\, den Nutzen ihrer Tätigkeit verständlich und beschreibbar gegenüber Geldgebern und Öffentlichkeit darzustellen. Das Seminar richtet sich vor allem an konzeptionell Verantwortliche bei öffentlichen und freien Trägern. Es vermittelt Grundlagen einer wirkungsorientierten Planung und Arbeitsweise in Angebotsformen der Jugend- und Jugendsozialarbeit. Die Teilnehmenden erarbeiten anhand eines konkreten Beispiels die zentralen Prozesse Bedarfsermittlung\, Konzeptentwicklung\, Angebotssteuerung und Auswertung. \nWeitere Informationen sowie die Möglichkeit zur Anmeldung finden sich hier. \nQuelle: www.sfbb.berlin-brandenburg.de (28.06.2022) \nKontakt\nSozialpädagogisches Fortbildungsinstitut Berlin-Brandenburg (SFBB)\nTel.: 030/48481-0\nEmail: info@sfbb.berlin-brandenburg.de
URL:https://www.demokratie-vielfalt-respekt.de/veranstaltung/wirkungsvolle-jugendsozialarbeit-planen-und-umsetzen/
LOCATION:Jagdschloss Glienicke\, Königstraße 36b\, Berlin\, 14109
ORGANIZER;CN="Sozialp%C3%A4dagogisches Fortbildungsinstitut Berlin-Brandenburg (SFBB)":MAILTO:info@sfbb.Berlin-Brandenburg.de
END:VEVENT
BEGIN:VEVENT
DTSTART;VALUE=DATE:20220922
DTEND;VALUE=DATE:20220924
DTSTAMP:20260421T001512
CREATED:20221214T180945Z
LAST-MODIFIED:20230101T124717Z
UID:10000034-1663804800-1663977599@www.demokratie-vielfalt-respekt.de
SUMMARY:Stiftungen als Förderpartner:innen gewinnen
DESCRIPTION:In Deutschland liegt die Anzahl der Stiftungen bei über 21.000 und pro Jahr kommen zahlreiche Neugründungen hinzu. Stiftungen als Förderpartner zu gewinnen\, ist für viele Non-Profit-Organisationen ein wichtiger und sinnvoller Weg\, um finanzielle Unterstützung für einzelne Projekte einzuwerben. Doch die Ansprache von Stiftungen ist eine Disziplin für sich. \nIm Seminar erwerben die Teilnehmenden das notwendige Know-how\, erfahren\, wie sie die passende Stiftung finden\, worauf es bei der Antragsarchitektur ankommt und was sie bei der Finanzplanung beachten sollten. Die Vermittlung der Inhalte wird dabei flankiert von praktischen Übungen\, in denen sie konkret zu ihren Projekten arbeiten können. Inhalte des Seminars werden u. a. sein: Faktencheck Stiftungen. Die passende Stiftung finden. Kontaktaufnahme\, Kommunikation. Konzepterstellung\, Antragsstellung\, Finanzplan. Abrechnung\, Berichtswesen. Methoden: Input\, praktische Übungen\, Gruppenarbeit\, Austausch und Diskussion. \nWeitere Informationen sowie die Möglichkeit zur Anmeldung bis zum 28. Juli 2022 finden sich hier. \nQuelle: www.sfbb.berlin-brandenburg.de (21.01.2022) \nKontakt\nSozialpädagogisches Fortbildungsinstitut Berlin-Brandenburg (SFBB)\nKönigstr. 36 B  | 14109 Berlin\nTel.: 030/48481-0\nE-Mail: info@sfbb.Berlin-Brandenburg.de\nWeb: www.sfbb.berlin-brandenburg.de
URL:https://www.demokratie-vielfalt-respekt.de/veranstaltung/stiftungen-als-foerderpartnerinnen-gewinnen/
LOCATION:Jagdschloss Glienicke\, Königstraße 36b\, Berlin\, 14109
ORGANIZER;CN="Sozialp%C3%A4dagogisches Fortbildungsinstitut Berlin-Brandenburg (SFBB)":MAILTO:info@sfbb.Berlin-Brandenburg.de
END:VEVENT
BEGIN:VEVENT
DTSTART;VALUE=DATE:20220922
DTEND;VALUE=DATE:20220924
DTSTAMP:20260421T001512
CREATED:20221214T173517Z
LAST-MODIFIED:20230101T124833Z
UID:10000033-1663804800-1663977599@www.demokratie-vielfalt-respekt.de
SUMMARY:Religion und Geschlechterstereotype: Was war zuerst da? Kulturalisierungen als Thema für die Jugendarbeit
DESCRIPTION:Geschlechtsspezifische Zuschreibungen\, mit denen Kinder und Jugendliche aufwachsen\, sind stets von Ungleichbehandlung und Benachteiligung begleitet. Ob wir es wollen oder nicht: Diese Stereotype prägen unser Leben. Nicht selten werden in diesem Kontext geschlechtsspezifische Bilder religiös begründet und ‚Nicht-deutsch’-gelesenen-Menschen zugeschrieben: Vermeintlich allgemeingültige Klischees wie ‚Muslimische Mädchen werden von ihren Brüdern unterdrückt sind uns allen bekannt. \nWenn wir diese Themen geschlechterrefflektiert und diskriminisierungssensibel analysieren\, tauchen Fragen für die Jugendarbeit auf: Welche Rolle spielt die Religion im Kontext patriarchaler Strukturen? Was hat was beeinflusst\, die Religion das Patriarchat oder anders herum? Wie stehen Religionsgemeinschaften zu Geschlechterrollen und Diversität? Welche Erwartungen und Anforderungen werden an Jugendliche und ihre Geschlechtszugehörigkeit gestellt? In diesem Seminar können sich die Teilnehmenden kritisch mit den Themen Religion und Geschlechterrollen auseinandersetzen. Dafür stehen ihnen verschiedene Methoden und Übungen zur Verfügung\, die eine interaktive\, reflexive und analytische Diskussion über das Thema ermöglichen. \nWeitere Informationen sowie die Möglichkeit zur Anmeldung bis zum 28.07.2022 finden sich hier. \nQuelle: www.sfbb.berlin-brandenburg.de (27.06.2022) \nKontakt\nSozialpädagogisches Fortbildungsinstitut Berlin-Brandenburg (SFBB)\nTel.: 030/48481-0\nEmail: info@sfbb.berlin-brandenburg.de\nWeb: www.sfbb.berlin-brandenburg.de
URL:https://www.demokratie-vielfalt-respekt.de/veranstaltung/religion-und-geschlechterstereotype-was-war-zuerst-da-kulturalisierungen-als-thema-fuer-die-jugendarbeit/
LOCATION:Jagdschloss Glienicke\, Königstraße 36b\, Berlin\, 14109
ORGANIZER;CN="Sozialp%C3%A4dagogisches Fortbildungsinstitut Berlin-Brandenburg (SFBB)":MAILTO:info@sfbb.Berlin-Brandenburg.de
END:VEVENT
BEGIN:VEVENT
DTSTART;VALUE=DATE:20220912
DTEND;VALUE=DATE:20220914
DTSTAMP:20260421T001512
CREATED:20221214T165636Z
LAST-MODIFIED:20230101T130208Z
UID:10000022-1662940800-1663113599@www.demokratie-vielfalt-respekt.de
SUMMARY:Jugendtypischen Radikalisierungsphänomenen begegnen – vor Ort und virtuell
DESCRIPTION:Radikal sein gehört zum Jugendalter – einer Phase des Umbruchs und der Identitätssuche – oftmals dazu. Radikalisierungsprozesse hingegen können in einigen Fällen eine menschenfeindliche und demokratiegefährdende Form annehmen. Die Fortbildung umfasst folgende Themen: \n\nGrundlagen zum Phänomen der Radikalisierung\nWissensvermittlung zu den unterschiedlichen ideologischen Radikalisierungsformen und der Bedeutung von Radikalisierung im digitalen Raum\nBetrachtung von unterschiedlichen Radikalisierungsverläufen im Jugendalter und deren Besonderheiten\nPräventionsstrategien im Umgang mit Radikalisierungserscheinungen – online/offline\nFallarbeit zur Stärkung der Handlungssicherheit im Umgang mit Anzeichen von Radikalisierung bei Jugendlichen.\n\nDie Fortbildung unterstützt die Teilnehmenden dabei\, Radikalisierungsverläufe bei Jugendlichen besser einzuordnen und auf sie angemessen reagieren zu können. Als Methoden werden Inputs\, Rollenspiele\, Gruppenarbeiten und kollegiale Austauschformate eingesetzt. Zusätzlich führen die Teilnehmenden unter Hinzunahme von Multimedia einen Exkurs in die Online-Begegnung mit Radikalisierungsphänomenen durch. Weitere Informationen sowie die Möglichkeit zur Anmeldung bis zum 31. Juli 2022 finden sich hier. \nQuelle: www.sfbb.berlin-brandenburg.de (19.07.2022) \nKontakt\nSozialpädagogisches Fortbildungsinstitut Berlin-Brandenburg (SFBB)\nAnsprechperson: Johanna Dietrich\nE-Mail: johanna.dietrich@sfbb.berlin-brandenburg.de
URL:https://www.demokratie-vielfalt-respekt.de/veranstaltung/jugendtypischen-radikalisierungsphaenomenen-begegnen-vor-ort-und-virtuell/
LOCATION:Jagdschloss Glienicke\, Königstraße 36b\, Berlin\, 14109
ORGANIZER;CN="Sozialp%C3%A4dagogisches Fortbildungsinstitut Berlin-Brandenburg (SFBB) | F.A.N. Berlin-Brandenburg %E2%80%93 F%C3%BCr Demokratie%2C Recht und Freiheit":MAILTO:johanna.dietrich@sfbb.berlin-brandenburg.de ;
END:VEVENT
END:VCALENDAR