BEGIN:VCALENDAR
VERSION:2.0
PRODID:-//Demokratie Vielfalt Respekt - ECPv6.15.20//NONSGML v1.0//EN
CALSCALE:GREGORIAN
METHOD:PUBLISH
X-ORIGINAL-URL:https://www.demokratie-vielfalt-respekt.de
X-WR-CALDESC:Veranstaltungen für Demokratie Vielfalt Respekt
REFRESH-INTERVAL;VALUE=DURATION:PT1H
X-Robots-Tag:noindex
X-PUBLISHED-TTL:PT1H
BEGIN:VTIMEZONE
TZID:Europe/Berlin
BEGIN:DAYLIGHT
TZOFFSETFROM:+0100
TZOFFSETTO:+0200
TZNAME:CEST
DTSTART:20240331T010000
END:DAYLIGHT
BEGIN:STANDARD
TZOFFSETFROM:+0200
TZOFFSETTO:+0100
TZNAME:CET
DTSTART:20241027T010000
END:STANDARD
BEGIN:DAYLIGHT
TZOFFSETFROM:+0100
TZOFFSETTO:+0200
TZNAME:CEST
DTSTART:20250330T010000
END:DAYLIGHT
BEGIN:STANDARD
TZOFFSETFROM:+0200
TZOFFSETTO:+0100
TZNAME:CET
DTSTART:20251026T010000
END:STANDARD
BEGIN:DAYLIGHT
TZOFFSETFROM:+0100
TZOFFSETTO:+0200
TZNAME:CEST
DTSTART:20260329T010000
END:DAYLIGHT
BEGIN:STANDARD
TZOFFSETFROM:+0200
TZOFFSETTO:+0100
TZNAME:CET
DTSTART:20261025T010000
END:STANDARD
END:VTIMEZONE
BEGIN:VEVENT
DTSTART;TZID=Europe/Berlin:20250403T153000
DTEND;TZID=Europe/Berlin:20250403T183000
DTSTAMP:20260421T053355
CREATED:20250213T115620Z
LAST-MODIFIED:20250217T094714Z
UID:10000583-1743694200-1743705000@www.demokratie-vielfalt-respekt.de
SUMMARY:Jüdisches Leben mit pluralen Solidaritäten seit dem 7. Oktober
DESCRIPTION:[vc_row][vc_column][vc_column_text css=““]In politischer Bildung und Gedenkveranstaltungen wird oft ÜBER jüdisches Leben gesprochen\, statt MIT Jüdinnen und Juden oder gar SEITENS jüdischer Stimmen. Jüdische Wissenschaftler:innen werden weiterhin als Betroffene betrachtet\, denen es an „Objektivität“ fehle\, was ein Hierarchie- und Empathiegefälle schafft. Die Workshopreihe setzt dem ein interaktives\, erfahrungsbasiertes Angebot entgegen\, das Perspektivkoordinationen ermöglicht und Aha-Momente erzeugt. Der Angriff der Hamas und der Krieg in Gaza haben jüdische Debatten in Deutschland verändert – neue Solidaritäten und Nationalismen entstehen\, während kritische Diskussionen zunehmend ins Private verlagert werden. Der Workshop beleuchtet\, wie jüdische Menschen in Alltag\, Wissenschaft und Bildung diese Spannungsfelder und multiplen Solidaritäten navigieren. \nIm Workshop werden Situationen und Fallbeispiele diskutiert\, um Perspektivkoordinationen zu ermöglichen. Die Teilnehmenden werden in Kleingruppen oder Partnerarbeit eigene Fragen und Fallbeispiele entwickeln und mit den Refereierenden darüber ins Gespräch kommen. \nDer Workshop ist der dritte Teil der Veranstaltungsreihe „Nothing about us without us?!« – Jüdische Perspektiven auf Antisemitismus\, Erinnerungskultur und jüdisches Leben in Deutschland.“ Die Teilnahme ist kostenlos. Eine Anmeldung ist über das Anmeldeformular der Berliner Landeszentrale für Politische Bildung möglich.[/vc_column_text][/vc_column][/vc_row][vc_row][vc_column width=“2/3″][vc_column_text css=““]Kontakt\nBerliner Landeszentrale für politische Bildung\nAnsprechperson: Thomas Gill\nMail: thomas.gill@senbjf.berlin.de\nTel.: (030) 902 274 961\nWeb: www.berlin.de\n \nQuelle: www.berlin.de/politische-bildung/veranstaltungen (13.02.2025)[/vc_column_text][/vc_column][vc_column width=“1/3″][vc_single_image source=“featured_image“ css=“.vc_custom_1737973486528{padding-top: 20px !important;}“][/vc_column][/vc_row]
URL:https://www.demokratie-vielfalt-respekt.de/veranstaltung/juedisches-leben-mit-pluralen-solidaritaeten-seit-dem-7-oktober/
LOCATION:Berliner Landeszentrale für Politische Bildung\, Hardenbergstraße 22–24\, Berlin\, Berlin\, 10623\, Germany
ATTACH;FMTTYPE=image/png:https://www.demokratie-vielfalt-respekt.de/wp-content/uploads/2022/12/logo-berliner-landeszentrale-politische-bildung-21.png
ORGANIZER;CN="Berliner Landeszentrale f%C3%BCr Politische Bildung":MAILTO:landeszentrale@senbjf.berlin.de
END:VEVENT
BEGIN:VEVENT
DTSTART;TZID=Europe/Berlin:20250319T153000
DTEND;TZID=Europe/Berlin:20250319T183000
DTSTAMP:20260421T053355
CREATED:20250127T104554Z
LAST-MODIFIED:20250217T094139Z
UID:10000577-1742398200-1742409000@www.demokratie-vielfalt-respekt.de
SUMMARY:Die Rolle der "Wiedergutmachungsjuden" im deutschen Gedächtnistheater
DESCRIPTION:[vc_row][vc_column][vc_column_text css=““]Jüdisches Leben jetzt in Deutschland wird vor allem dann gewollt\, unterstützt und diskutiert\, wenn die Mehrheitsgesellschaft eine bestimmte Absicht verfolgt. Da kann sich dann gesonnt werden im Gefühl „Weltmeister der Erinnerung“ zu sein\, jüdische Menschen können in Diskursen um vermeintlich „zugewanderte Antisemitismen“ herangezogen werden\, um antimuslimischen Rassismus zu befördern usw. Gleichzeitig interessieren sich die meisten in ihrem „Erinnerungswahn“ wie Henryk M. Broder pointiert formulierte\, allzu oft nur für „die toten Juden“ und wenig für die Lebenden. Dieses komplexe Changieren zwischen Gedächtnistheater\, Philosemitismus\, Antisemitismus und Rassismus sowie die vorhandenen Schnittmengen sollen im Rahmen des Workshops reflektiert werden. \nIm Workshop werden Situationen und Fallbeispiele diskutiert\, um Perspektivkoordinationen zu ermöglichen. Die Teilnehmenden werden in Kleingruppen oder Partnerarbeit eigene Fragen und Fallbeispiele entwickeln und diskutieren und mit den Referierenden darüber ins Gespräch kommen. Der Workshop ist der zweite Teil der Veranstaltungsreihe „Nothing about us without us?!« – Jüdische Perspektiven auf Antisemitismus\, Erinnerungskultur und jüdisches Leben in Deutschland.“ Die Teilnahme ist kostenlos. Eine Anmeldung ist über das Anmeldeformular der Berliner Landeszentrale für Politische Bildung möglich.[/vc_column_text][/vc_column][/vc_row][vc_row][vc_column width=“2/3″][vc_column_text css=““]Kontakt\nBerliner Landeszentrale für politische Bildung\nAnsprechperson: Thomas Gill\nMail: thomas.gill@senbjf.berlin.de\nTel.: (030) 902 274 961\nWeb: www.berlin.de\n \nQuelle: www.berlin.de/politische-bildung/veranstaltungen (27.01.2025)[/vc_column_text][/vc_column][vc_column width=“1/3″][vc_single_image source=“featured_image“ css=“.vc_custom_1737973486528{padding-top: 20px !important;}“][/vc_column][/vc_row]
URL:https://www.demokratie-vielfalt-respekt.de/veranstaltung/bpb-rolle-der-wiedergutmachungsjuden/
LOCATION:Berliner Landeszentrale für Politische Bildung\, Hardenbergstraße 22–24\, Berlin\, Berlin\, 10623\, Germany
ATTACH;FMTTYPE=image/png:https://www.demokratie-vielfalt-respekt.de/wp-content/uploads/2022/12/logo-berliner-landeszentrale-politische-bildung-21.png
ORGANIZER;CN="Berliner Landeszentrale f%C3%BCr Politische Bildung":MAILTO:landeszentrale@senbjf.berlin.de
END:VEVENT
END:VCALENDAR