BEGIN:VCALENDAR
VERSION:2.0
PRODID:-//Demokratie Vielfalt Respekt - ECPv6.15.20//NONSGML v1.0//EN
CALSCALE:GREGORIAN
METHOD:PUBLISH
X-WR-CALNAME:Demokratie Vielfalt Respekt
X-ORIGINAL-URL:https://www.demokratie-vielfalt-respekt.de
X-WR-CALDESC:Veranstaltungen für Demokratie Vielfalt Respekt
REFRESH-INTERVAL;VALUE=DURATION:PT1H
X-Robots-Tag:noindex
X-PUBLISHED-TTL:PT1H
BEGIN:VTIMEZONE
TZID:Europe/Berlin
BEGIN:DAYLIGHT
TZOFFSETFROM:+0100
TZOFFSETTO:+0200
TZNAME:CEST
DTSTART:20250330T010000
END:DAYLIGHT
BEGIN:STANDARD
TZOFFSETFROM:+0200
TZOFFSETTO:+0100
TZNAME:CET
DTSTART:20251026T010000
END:STANDARD
BEGIN:DAYLIGHT
TZOFFSETFROM:+0100
TZOFFSETTO:+0200
TZNAME:CEST
DTSTART:20260329T010000
END:DAYLIGHT
BEGIN:STANDARD
TZOFFSETFROM:+0200
TZOFFSETTO:+0100
TZNAME:CET
DTSTART:20261025T010000
END:STANDARD
BEGIN:DAYLIGHT
TZOFFSETFROM:+0100
TZOFFSETTO:+0200
TZNAME:CEST
DTSTART:20270328T010000
END:DAYLIGHT
BEGIN:STANDARD
TZOFFSETFROM:+0200
TZOFFSETTO:+0100
TZNAME:CET
DTSTART:20271031T010000
END:STANDARD
END:VTIMEZONE
BEGIN:VEVENT
DTSTART;TZID=Europe/Berlin:20260603T090000
DTEND;TZID=Europe/Berlin:20260603T130000
DTSTAMP:20260424T174124
CREATED:20260424T065513Z
LAST-MODIFIED:20260424T070439Z
UID:10000967-1780477200-1780491600@www.demokratie-vielfalt-respekt.de
SUMMARY:Kompetent gegen Rechtsextremismus – Modulare Fortbildungsreihe 2026
DESCRIPTION:[vc_row][vc_column][vc_column_text]Der Kooperationsverbund Rechtsextremismusprävention (KompRex) bietet von April bis Juli 2026 eine modulare Fortbildungsreihe an. \nMit der modularen Online-Fortbildungsreihe reagiert KompRex auf von ihnen wahrgenommene Bedarfe für eine niedrigschwellige Fortbildung und Qualifizierung zum Thema Rechtsextremismusprävention. Sie richtet sich in erster Linie an Personen aus Regelstrukturen\, also z.B. Gleichstellungsbeauftragte\, Mitarbeitende von großen Sozialverbänden oder der Freiwilligen Feuerwehr\, Fachkräfte aus der Rechtsextremismusprävention\, Personen die in Projekten\, die von „Demokratie Leben!“ gefördert werden\, selber aktiv sind und die vielen Aktive der Zivilgesellschaft. \nIn zwei einführenden Workshops soll Grundlagenwissen über Erscheinungsformen des Rechtsextremismus vermittelt werden. In den darauffolgenden Vertiefungsworkshops führen die Träger des KompRex in die Herausforderungen mit Rechtsextremismus in ihren jeweiligen Feldern ein. \nDie Workshops finden jeweils von 9-13 Uhr online statt. \nMontag\, 27.04.: Einführungsworkshop I:Rechtsextremismus in Deutschland – Grundlagen\nDienstag\, 05.05.: Einführungsworkshop II: Modernisierungen? – Neue Rechte und türkischer Rechtsextremismus\nMontag\, 11.05.: „Mannhaft werden“ – Relevanz von Gender- & Familienpolitiken im Rechtsextremismus\nMittwoch\, 20.05.: Rechtsextreme Einflussnahme in der Arbeitswelt: Akteur*innen und Handlungsoptionen\nDienstag\, 26.05.: Umgang mit Angriffen und Bedrohungen\nMittwoch\, 03.06.: Die extreme Rechte und die Religion\nMontag\, 08.06.: Am Rand verortet – mitten in der Gesellschaft: Türkischer Rechtsextremismus im deutschen Kontext\nMontag\, 15.06.: Jugendlicher Rechtsextremismus – Problemaufrisse und Präventionsansätze\nDienstag\, 23.06.: Kenne Deine Rechte(n)! – Rechtsextremismus und Justiz\nMittwoch\, 08.07.: Kindheit rechts außen \nDas Angebot ist kostenlos. Eine Anmeldung ist ab sofort auf der Website von KompRex möglich.[/vc_column_text][/vc_column][/vc_row][vc_row][vc_column width=“1/2″][vc_column_text]Kontakt\nKooperationsverbund Rechtsextremismusprävention\nAnsprechpartnerin: Lea Lochau\nE-Mail: omprex@amadeu-antonio-stiftung.de\nWeb: www.kooperationsverbund-rechtsextremismuspraevention.de \nQuelle: www.kooperationsverbund-rechtsextremismuspraevention/modulare-fortbildungsreihe.de (24.04.2026)[/vc_column_text][/vc_column][vc_column width=“1/2″][vc_single_image source=“featured_image“ add_caption=“yes“ alignment=“right“ css=““][/vc_column][/vc_row]
URL:https://www.demokratie-vielfalt-respekt.de/veranstaltung/kompetent-gegen-rechtsextremismus-modulare-fortbildungsreihe-2026/2026-06-03/
ATTACH;FMTTYPE=image/png:https://www.demokratie-vielfalt-respekt.de/wp-content/uploads/2026/04/KompRex_Logo.png
ORGANIZER;CN="Kooperationsverbund Rechstextremismuspr%C3%A4vention":MAILTO:komprex@amadeu-antonio-stiftung.de
END:VEVENT
BEGIN:VEVENT
DTSTART;TZID=Europe/Berlin:20260608T090000
DTEND;TZID=Europe/Berlin:20260608T130000
DTSTAMP:20260424T174124
CREATED:20260424T065513Z
LAST-MODIFIED:20260424T070439Z
UID:10000968-1780909200-1780923600@www.demokratie-vielfalt-respekt.de
SUMMARY:Kompetent gegen Rechtsextremismus – Modulare Fortbildungsreihe 2026
DESCRIPTION:[vc_row][vc_column][vc_column_text]Der Kooperationsverbund Rechtsextremismusprävention (KompRex) bietet von April bis Juli 2026 eine modulare Fortbildungsreihe an. \nMit der modularen Online-Fortbildungsreihe reagiert KompRex auf von ihnen wahrgenommene Bedarfe für eine niedrigschwellige Fortbildung und Qualifizierung zum Thema Rechtsextremismusprävention. Sie richtet sich in erster Linie an Personen aus Regelstrukturen\, also z.B. Gleichstellungsbeauftragte\, Mitarbeitende von großen Sozialverbänden oder der Freiwilligen Feuerwehr\, Fachkräfte aus der Rechtsextremismusprävention\, Personen die in Projekten\, die von „Demokratie Leben!“ gefördert werden\, selber aktiv sind und die vielen Aktive der Zivilgesellschaft. \nIn zwei einführenden Workshops soll Grundlagenwissen über Erscheinungsformen des Rechtsextremismus vermittelt werden. In den darauffolgenden Vertiefungsworkshops führen die Träger des KompRex in die Herausforderungen mit Rechtsextremismus in ihren jeweiligen Feldern ein. \nDie Workshops finden jeweils von 9-13 Uhr online statt. \nMontag\, 27.04.: Einführungsworkshop I:Rechtsextremismus in Deutschland – Grundlagen\nDienstag\, 05.05.: Einführungsworkshop II: Modernisierungen? – Neue Rechte und türkischer Rechtsextremismus\nMontag\, 11.05.: „Mannhaft werden“ – Relevanz von Gender- & Familienpolitiken im Rechtsextremismus\nMittwoch\, 20.05.: Rechtsextreme Einflussnahme in der Arbeitswelt: Akteur*innen und Handlungsoptionen\nDienstag\, 26.05.: Umgang mit Angriffen und Bedrohungen\nMittwoch\, 03.06.: Die extreme Rechte und die Religion\nMontag\, 08.06.: Am Rand verortet – mitten in der Gesellschaft: Türkischer Rechtsextremismus im deutschen Kontext\nMontag\, 15.06.: Jugendlicher Rechtsextremismus – Problemaufrisse und Präventionsansätze\nDienstag\, 23.06.: Kenne Deine Rechte(n)! – Rechtsextremismus und Justiz\nMittwoch\, 08.07.: Kindheit rechts außen \nDas Angebot ist kostenlos. Eine Anmeldung ist ab sofort auf der Website von KompRex möglich.[/vc_column_text][/vc_column][/vc_row][vc_row][vc_column width=“1/2″][vc_column_text]Kontakt\nKooperationsverbund Rechtsextremismusprävention\nAnsprechpartnerin: Lea Lochau\nE-Mail: omprex@amadeu-antonio-stiftung.de\nWeb: www.kooperationsverbund-rechtsextremismuspraevention.de \nQuelle: www.kooperationsverbund-rechtsextremismuspraevention/modulare-fortbildungsreihe.de (24.04.2026)[/vc_column_text][/vc_column][vc_column width=“1/2″][vc_single_image source=“featured_image“ add_caption=“yes“ alignment=“right“ css=““][/vc_column][/vc_row]
URL:https://www.demokratie-vielfalt-respekt.de/veranstaltung/kompetent-gegen-rechtsextremismus-modulare-fortbildungsreihe-2026/2026-06-08/
ATTACH;FMTTYPE=image/png:https://www.demokratie-vielfalt-respekt.de/wp-content/uploads/2026/04/KompRex_Logo.png
ORGANIZER;CN="Kooperationsverbund Rechstextremismuspr%C3%A4vention":MAILTO:komprex@amadeu-antonio-stiftung.de
END:VEVENT
BEGIN:VEVENT
DTSTART;TZID=Europe/Berlin:20260615T090000
DTEND;TZID=Europe/Berlin:20260615T130000
DTSTAMP:20260424T174124
CREATED:20260424T065513Z
LAST-MODIFIED:20260424T070439Z
UID:10000969-1781514000-1781528400@www.demokratie-vielfalt-respekt.de
SUMMARY:Kompetent gegen Rechtsextremismus – Modulare Fortbildungsreihe 2026
DESCRIPTION:[vc_row][vc_column][vc_column_text]Der Kooperationsverbund Rechtsextremismusprävention (KompRex) bietet von April bis Juli 2026 eine modulare Fortbildungsreihe an. \nMit der modularen Online-Fortbildungsreihe reagiert KompRex auf von ihnen wahrgenommene Bedarfe für eine niedrigschwellige Fortbildung und Qualifizierung zum Thema Rechtsextremismusprävention. Sie richtet sich in erster Linie an Personen aus Regelstrukturen\, also z.B. Gleichstellungsbeauftragte\, Mitarbeitende von großen Sozialverbänden oder der Freiwilligen Feuerwehr\, Fachkräfte aus der Rechtsextremismusprävention\, Personen die in Projekten\, die von „Demokratie Leben!“ gefördert werden\, selber aktiv sind und die vielen Aktive der Zivilgesellschaft. \nIn zwei einführenden Workshops soll Grundlagenwissen über Erscheinungsformen des Rechtsextremismus vermittelt werden. In den darauffolgenden Vertiefungsworkshops führen die Träger des KompRex in die Herausforderungen mit Rechtsextremismus in ihren jeweiligen Feldern ein. \nDie Workshops finden jeweils von 9-13 Uhr online statt. \nMontag\, 27.04.: Einführungsworkshop I:Rechtsextremismus in Deutschland – Grundlagen\nDienstag\, 05.05.: Einführungsworkshop II: Modernisierungen? – Neue Rechte und türkischer Rechtsextremismus\nMontag\, 11.05.: „Mannhaft werden“ – Relevanz von Gender- & Familienpolitiken im Rechtsextremismus\nMittwoch\, 20.05.: Rechtsextreme Einflussnahme in der Arbeitswelt: Akteur*innen und Handlungsoptionen\nDienstag\, 26.05.: Umgang mit Angriffen und Bedrohungen\nMittwoch\, 03.06.: Die extreme Rechte und die Religion\nMontag\, 08.06.: Am Rand verortet – mitten in der Gesellschaft: Türkischer Rechtsextremismus im deutschen Kontext\nMontag\, 15.06.: Jugendlicher Rechtsextremismus – Problemaufrisse und Präventionsansätze\nDienstag\, 23.06.: Kenne Deine Rechte(n)! – Rechtsextremismus und Justiz\nMittwoch\, 08.07.: Kindheit rechts außen \nDas Angebot ist kostenlos. Eine Anmeldung ist ab sofort auf der Website von KompRex möglich.[/vc_column_text][/vc_column][/vc_row][vc_row][vc_column width=“1/2″][vc_column_text]Kontakt\nKooperationsverbund Rechtsextremismusprävention\nAnsprechpartnerin: Lea Lochau\nE-Mail: omprex@amadeu-antonio-stiftung.de\nWeb: www.kooperationsverbund-rechtsextremismuspraevention.de \nQuelle: www.kooperationsverbund-rechtsextremismuspraevention/modulare-fortbildungsreihe.de (24.04.2026)[/vc_column_text][/vc_column][vc_column width=“1/2″][vc_single_image source=“featured_image“ add_caption=“yes“ alignment=“right“ css=““][/vc_column][/vc_row]
URL:https://www.demokratie-vielfalt-respekt.de/veranstaltung/kompetent-gegen-rechtsextremismus-modulare-fortbildungsreihe-2026/2026-06-15/
ATTACH;FMTTYPE=image/png:https://www.demokratie-vielfalt-respekt.de/wp-content/uploads/2026/04/KompRex_Logo.png
ORGANIZER;CN="Kooperationsverbund Rechstextremismuspr%C3%A4vention":MAILTO:komprex@amadeu-antonio-stiftung.de
END:VEVENT
BEGIN:VEVENT
DTSTART;TZID=Europe/Berlin:20260623T090000
DTEND;TZID=Europe/Berlin:20260623T130000
DTSTAMP:20260424T174124
CREATED:20260424T065513Z
LAST-MODIFIED:20260424T070439Z
UID:10000970-1782205200-1782219600@www.demokratie-vielfalt-respekt.de
SUMMARY:Kompetent gegen Rechtsextremismus – Modulare Fortbildungsreihe 2026
DESCRIPTION:[vc_row][vc_column][vc_column_text]Der Kooperationsverbund Rechtsextremismusprävention (KompRex) bietet von April bis Juli 2026 eine modulare Fortbildungsreihe an. \nMit der modularen Online-Fortbildungsreihe reagiert KompRex auf von ihnen wahrgenommene Bedarfe für eine niedrigschwellige Fortbildung und Qualifizierung zum Thema Rechtsextremismusprävention. Sie richtet sich in erster Linie an Personen aus Regelstrukturen\, also z.B. Gleichstellungsbeauftragte\, Mitarbeitende von großen Sozialverbänden oder der Freiwilligen Feuerwehr\, Fachkräfte aus der Rechtsextremismusprävention\, Personen die in Projekten\, die von „Demokratie Leben!“ gefördert werden\, selber aktiv sind und die vielen Aktive der Zivilgesellschaft. \nIn zwei einführenden Workshops soll Grundlagenwissen über Erscheinungsformen des Rechtsextremismus vermittelt werden. In den darauffolgenden Vertiefungsworkshops führen die Träger des KompRex in die Herausforderungen mit Rechtsextremismus in ihren jeweiligen Feldern ein. \nDie Workshops finden jeweils von 9-13 Uhr online statt. \nMontag\, 27.04.: Einführungsworkshop I:Rechtsextremismus in Deutschland – Grundlagen\nDienstag\, 05.05.: Einführungsworkshop II: Modernisierungen? – Neue Rechte und türkischer Rechtsextremismus\nMontag\, 11.05.: „Mannhaft werden“ – Relevanz von Gender- & Familienpolitiken im Rechtsextremismus\nMittwoch\, 20.05.: Rechtsextreme Einflussnahme in der Arbeitswelt: Akteur*innen und Handlungsoptionen\nDienstag\, 26.05.: Umgang mit Angriffen und Bedrohungen\nMittwoch\, 03.06.: Die extreme Rechte und die Religion\nMontag\, 08.06.: Am Rand verortet – mitten in der Gesellschaft: Türkischer Rechtsextremismus im deutschen Kontext\nMontag\, 15.06.: Jugendlicher Rechtsextremismus – Problemaufrisse und Präventionsansätze\nDienstag\, 23.06.: Kenne Deine Rechte(n)! – Rechtsextremismus und Justiz\nMittwoch\, 08.07.: Kindheit rechts außen \nDas Angebot ist kostenlos. Eine Anmeldung ist ab sofort auf der Website von KompRex möglich.[/vc_column_text][/vc_column][/vc_row][vc_row][vc_column width=“1/2″][vc_column_text]Kontakt\nKooperationsverbund Rechtsextremismusprävention\nAnsprechpartnerin: Lea Lochau\nE-Mail: omprex@amadeu-antonio-stiftung.de\nWeb: www.kooperationsverbund-rechtsextremismuspraevention.de \nQuelle: www.kooperationsverbund-rechtsextremismuspraevention/modulare-fortbildungsreihe.de (24.04.2026)[/vc_column_text][/vc_column][vc_column width=“1/2″][vc_single_image source=“featured_image“ add_caption=“yes“ alignment=“right“ css=““][/vc_column][/vc_row]
URL:https://www.demokratie-vielfalt-respekt.de/veranstaltung/kompetent-gegen-rechtsextremismus-modulare-fortbildungsreihe-2026/2026-06-23/
ATTACH;FMTTYPE=image/png:https://www.demokratie-vielfalt-respekt.de/wp-content/uploads/2026/04/KompRex_Logo.png
ORGANIZER;CN="Kooperationsverbund Rechstextremismuspr%C3%A4vention":MAILTO:komprex@amadeu-antonio-stiftung.de
END:VEVENT
END:VCALENDAR