BEGIN:VCALENDAR
VERSION:2.0
PRODID:-//Demokratie Vielfalt Respekt - ECPv6.15.20//NONSGML v1.0//EN
CALSCALE:GREGORIAN
METHOD:PUBLISH
X-WR-CALNAME:Demokratie Vielfalt Respekt
X-ORIGINAL-URL:https://www.demokratie-vielfalt-respekt.de
X-WR-CALDESC:Veranstaltungen für Demokratie Vielfalt Respekt
REFRESH-INTERVAL;VALUE=DURATION:PT1H
X-Robots-Tag:noindex
X-PUBLISHED-TTL:PT1H
BEGIN:VTIMEZONE
TZID:Europe/Berlin
BEGIN:DAYLIGHT
TZOFFSETFROM:+0100
TZOFFSETTO:+0200
TZNAME:CEST
DTSTART:20250330T010000
END:DAYLIGHT
BEGIN:STANDARD
TZOFFSETFROM:+0200
TZOFFSETTO:+0100
TZNAME:CET
DTSTART:20251026T010000
END:STANDARD
BEGIN:DAYLIGHT
TZOFFSETFROM:+0100
TZOFFSETTO:+0200
TZNAME:CEST
DTSTART:20260329T010000
END:DAYLIGHT
BEGIN:STANDARD
TZOFFSETFROM:+0200
TZOFFSETTO:+0100
TZNAME:CET
DTSTART:20261025T010000
END:STANDARD
BEGIN:DAYLIGHT
TZOFFSETFROM:+0100
TZOFFSETTO:+0200
TZNAME:CEST
DTSTART:20270328T010000
END:DAYLIGHT
BEGIN:STANDARD
TZOFFSETFROM:+0200
TZOFFSETTO:+0100
TZNAME:CET
DTSTART:20271031T010000
END:STANDARD
END:VTIMEZONE
BEGIN:VEVENT
DTSTART;VALUE=DATE:20261124
DTEND;VALUE=DATE:20261127
DTSTAMP:20260421T031201
CREATED:20260417T090044Z
LAST-MODIFIED:20260417T090044Z
UID:10000934-1795478400-1795737599@www.demokratie-vielfalt-respekt.de
SUMMARY:SAVE THE DATE: 20 Jahre Netzwerk Diversität und Partizipation
DESCRIPTION:[vc_row][vc_column][vc_column_text]Das DiPa-Netzwerk vereint Einzelpersonen und/oder Organisationen aus Berlin/Brandenburg sowie aus Paris/Île-de-France\, die hauptberuflich oder ehrenamtlich in der Jugendarbeit\, in der Jugendsozialarbeit oder im schulischen Bereich mit jungen Menschen arbeiten\, insbesondere junge Menschen\, die erschwerten Zugang zu Mobilitätsprogrammen haben. \nWarum am Jahrestreffen teilnehmen? \n\nUm Austausch konkret zu machen: Beispiele für deutsch-französische Projekte kennenlernen\, verstehen\, wie man sie umsetzt\, und sich zur Projektpädagogik und zu Förderanträgen weiterbilden.\n• Um sich mit Fachkräften aus der Jugendarbeit über Herausforderungen\, Praxisbeispiele und Strukturen in Frankreich und Deutschland auszutauschen.\n• Um Partnerorganisationen zu finden und gemeinsame Projekte anzubahnen.\n• Um mit politischen Vertreter*innen ins Gespräch zu kommen und die Perspektive der Praxis sichtbar zu machen.\n• Um eine Region und ihre lokalen Initiativen durch inspirierende Besuche kennenzulernen.\n• Und vor allem: Um ein aktives\, motivierendes und menschliches Netzwerk leben zu lassen und zu pflegen\, das sich konkret für mehr Jugendmobilität und Partizipation engagiert!\n\nFalls du neugierig geworden bist\, kannst du unter diesen Link mehr über das Netzwerk für Diversität und Partizipation erfahren. \nDie offizielle Einladung und Möglichkeit zur Anmeldung kommt in den kommenden Wochen. Aber wenn du gerne dabei sein möchtest\, kannst du dir das Datum jetzt schon einmal vormerken oder eine Mail an dipa@centre-francais.de schreiben.[/vc_column_text][vc_btn title=“Vorstellungsvideo des Netzwerks“ link=“url:https%3A%2F%2Fwww.youtube.com%2Fwatch%3Fv%3DwXY_DU31Fcg|target:_blank“][/vc_column][/vc_row][vc_row][vc_column width=“1/2″][vc_column_text]Kontakt\nCentre Français de Berlin\nAnsprechpartnerin: Zoé Gautin\nE-Mail: dipa@centre-francais.de\nTel.: (030)  120 86 03 24\nWeb: www.centre-francais.de \nQuelle: Mail vom 16.04. (17.04.2026)[/vc_column_text][/vc_column][vc_column width=“1/2″][vc_single_image source=“featured_image“ add_caption=“yes“ alignment=“right“][/vc_column][/vc_row][vc_row][vc_column][/vc_column][/vc_row]
URL:https://www.demokratie-vielfalt-respekt.de/veranstaltung/20-jahre-netzwerk-dipa/
ATTACH;FMTTYPE=image/webp:https://www.demokratie-vielfalt-respekt.de/wp-content/uploads/2026/04/Logo_Netzwerk_DiPa.webp
END:VEVENT
END:VCALENDAR