BEGIN:VCALENDAR
VERSION:2.0
PRODID:-//Demokratie Vielfalt Respekt - ECPv6.15.20//NONSGML v1.0//EN
CALSCALE:GREGORIAN
METHOD:PUBLISH
X-ORIGINAL-URL:https://www.demokratie-vielfalt-respekt.de
X-WR-CALDESC:Veranstaltungen für Demokratie Vielfalt Respekt
REFRESH-INTERVAL;VALUE=DURATION:PT1H
X-Robots-Tag:noindex
X-PUBLISHED-TTL:PT1H
BEGIN:VTIMEZONE
TZID:Europe/Berlin
BEGIN:DAYLIGHT
TZOFFSETFROM:+0100
TZOFFSETTO:+0200
TZNAME:CEST
DTSTART:20250330T010000
END:DAYLIGHT
BEGIN:STANDARD
TZOFFSETFROM:+0200
TZOFFSETTO:+0100
TZNAME:CET
DTSTART:20251026T010000
END:STANDARD
BEGIN:DAYLIGHT
TZOFFSETFROM:+0100
TZOFFSETTO:+0200
TZNAME:CEST
DTSTART:20260329T010000
END:DAYLIGHT
BEGIN:STANDARD
TZOFFSETFROM:+0200
TZOFFSETTO:+0100
TZNAME:CET
DTSTART:20261025T010000
END:STANDARD
BEGIN:DAYLIGHT
TZOFFSETFROM:+0100
TZOFFSETTO:+0200
TZNAME:CEST
DTSTART:20270328T010000
END:DAYLIGHT
BEGIN:STANDARD
TZOFFSETFROM:+0200
TZOFFSETTO:+0100
TZNAME:CET
DTSTART:20271031T010000
END:STANDARD
END:VTIMEZONE
BEGIN:VEVENT
DTSTART;TZID=Europe/Berlin:20260924T094500
DTEND;TZID=Europe/Berlin:20260925T171500
DTSTAMP:20260420T180706
CREATED:20260415T144145Z
LAST-MODIFIED:20260415T144310Z
UID:10000923-1790243100-1790356500@www.demokratie-vielfalt-respekt.de
SUMMARY:Gelingendes Fundraising – der Fundraising-Baukasten
DESCRIPTION:[vc_row][vc_column][vc_column_text css=““]Ein gelingendes Fundraising setzt sich aus einer Fülle von Bausteinen zusammen. Manche davon stehen uns optional zur Verfügung\, andere sind unerlässlich\, zum Beispiel ein vertrauensvolles Beziehungsmanagement zu unterschiedlichen Partnern/-innen wie Stiftungen\, Spendern/-innen\, Unternehmen oder öffentlichen Geldgebern und das Wissen um deren Bedürfnisse. \nStrategisches Denken\, Expert:innenwissen (Spenderpyramide\, Stakeholder)\, Storytelling\, Netzwerken\, Elevator Pitch\, Small Talk\, Big Talk und Freude am eigenen Tun als Ermöglicher sinnvoller Projekte sind weitere Bausteine des Seminars.\nDie Seminargebühr beträgt 20 EUR/Seminartag und 30 EUR/Fachtag inklusive Mittagessen. \nAnmeldeschluss ist der 27.08.2026. \nWeitere Informationen\, sowie die Möglichkeit zur Anmeldung finden Sie auf dem Anmelde-Portal des Instituts.[/vc_column_text][/vc_column][/vc_row][vc_row][vc_column width=“2/3″][vc_column_text css=““]Kontakt\nSozialpädagogisches Fortbildungsinstitut Berlin-Brandenburg\nAnsprechperson: Johanna Dietrich\nE-Mail: johanna.dietrich@sfbb.berlin-brandenburg.de\nTel.: (030) 48481 301\nWeb: www.sfbb.berlin-brandenburg.de \nQuelle: web.antragocloud.de(15.04.2026)[/vc_column_text][/vc_column][vc_column width=“1/3″][vc_single_image source=“featured_image“ add_caption=“yes“ alignment=“right“ css=““][/vc_column][/vc_row]
URL:https://www.demokratie-vielfalt-respekt.de/veranstaltung/sfbb-fundraising-gelingen/
LOCATION:Jagdschloss Glienicke\, Königstraße 36b\, Berlin\, 14109
ATTACH;FMTTYPE=image/jpeg:https://www.demokratie-vielfalt-respekt.de/wp-content/uploads/2022/12/sign_m_rgb_sfbb.jpg
ORGANIZER;CN="Sozialp%C3%A4dagogisches Fortbildungsinstitut Berlin-Brandenburg (SFBB)":MAILTO:info@sfbb.Berlin-Brandenburg.de
END:VEVENT
END:VCALENDAR