BEGIN:VCALENDAR
VERSION:2.0
PRODID:-//Demokratie Vielfalt Respekt - ECPv6.15.20//NONSGML v1.0//EN
CALSCALE:GREGORIAN
METHOD:PUBLISH
X-ORIGINAL-URL:https://www.demokratie-vielfalt-respekt.de
X-WR-CALDESC:Veranstaltungen für Demokratie Vielfalt Respekt
REFRESH-INTERVAL;VALUE=DURATION:PT1H
X-Robots-Tag:noindex
X-PUBLISHED-TTL:PT1H
BEGIN:VTIMEZONE
TZID:Europe/Berlin
BEGIN:DAYLIGHT
TZOFFSETFROM:+0100
TZOFFSETTO:+0200
TZNAME:CEST
DTSTART:20250330T010000
END:DAYLIGHT
BEGIN:STANDARD
TZOFFSETFROM:+0200
TZOFFSETTO:+0100
TZNAME:CET
DTSTART:20251026T010000
END:STANDARD
BEGIN:DAYLIGHT
TZOFFSETFROM:+0100
TZOFFSETTO:+0200
TZNAME:CEST
DTSTART:20260329T010000
END:DAYLIGHT
BEGIN:STANDARD
TZOFFSETFROM:+0200
TZOFFSETTO:+0100
TZNAME:CET
DTSTART:20261025T010000
END:STANDARD
BEGIN:DAYLIGHT
TZOFFSETFROM:+0100
TZOFFSETTO:+0200
TZNAME:CEST
DTSTART:20270328T010000
END:DAYLIGHT
BEGIN:STANDARD
TZOFFSETFROM:+0200
TZOFFSETTO:+0100
TZNAME:CET
DTSTART:20271031T010000
END:STANDARD
END:VTIMEZONE
BEGIN:VEVENT
DTSTART;TZID=Europe/Berlin:20260317T100000
DTEND;TZID=Europe/Berlin:20260317T120000
DTSTAMP:20260420T122745
CREATED:20260218T142918Z
LAST-MODIFIED:20260218T143007Z
UID:10000828-1773741600-1773748800@www.demokratie-vielfalt-respekt.de
SUMMARY:Online-Seminar "Mythos Neutralitätsgebot"
DESCRIPTION:[vc_row][vc_column][vc_column_text css=““]Die Veranstaltung bietet zunächst einen historischen Überblick darüber\, wie der Begriff der Neutralität im Bildungskontext innerhalb der Fachdisziplin diskutiert wurde. Im Anschluss werden die Grundlagen untersucht\, auf die sich aktuelle Forderungen nach einem Neutralitätsgebot durch parteipolitische Akteure stützen. Dabei werden die zugrunde liegenden Argumentationslogiken analysiert\, die als strategische Einflussnahme eingeordnet werden. Zudem wird Raum für den Austausch über Fragen\, Herausforderungen und Möglichkeiten eigener Positionierungen geschaffen. \nDie Referentin Jana Sämann ist Erziehungs- und Bildungswissenschaftlerin und als wissenschaftliche Mitarbeiterin an der Universität Siegen tätig. Ihre Arbeitsschwerpunkte sind politische Interventionen im Handlungsfeld Jugendarbeit sowie die Anrufung nach Neutralität in der politischen Bildung. \nEs besteht die Möglichkeit\, von 10:00 – 12:00 Uhr oder von 16:00 – 18:00 Uhr teilzunehmen. Die gewünschte Uhrzeit ist bei der Anmeldung bis zum 11. März anzugeben. \nWeitere Informationen sowie die Möglichkeit zur Anmeldung sind auf der Webseite von HALLIANZ zu finden.[/vc_column_text][/vc_column][/vc_row][vc_row][vc_column width=“2/3″][vc_column_text]Kontakt\nKoordinierungs- und Fachstelle HALLIANZ für Vielfalt\nMail: hallianz@halle.de\nTel: 0345 221 31 69\nWeb: www.hallianz-fuer-vielfalt.de[/vc_column_text][/vc_column][vc_column width=“1/3″][vc_single_image source=“featured_image“ add_caption=“yes“ alignment=“right“][/vc_column][/vc_row]
URL:https://www.demokratie-vielfalt-respekt.de/veranstaltung/seminar-mythos-neutralitaetsgebot/
LOCATION:Online
ATTACH;FMTTYPE=image/png:https://www.demokratie-vielfalt-respekt.de/wp-content/uploads/2026/02/Logo_HALLIANZ.png
ORGANIZER;CN="Koordinierungs- und Fachstelle HALLIANZ f%C3%BCr Vielfalt":MAILTO:hallianz@halle.de
END:VEVENT
BEGIN:VEVENT
DTSTART;TZID=Europe/Berlin:20260327T093000
DTEND;TZID=Europe/Berlin:20260327T123000
DTSTAMP:20260420T122745
CREATED:20260304T145209Z
LAST-MODIFIED:20260310T143056Z
UID:10000839-1774603800-1774614600@www.demokratie-vielfalt-respekt.de
SUMMARY:Online-Transferwerkstatt "Betreibermodelle für Soziale Orte"
DESCRIPTION:[vc_row][vc_column][vc_column_text css=““]Wie können Soziale Orte in Quartieren des Sozialen Zusammenhalts tragfähig organisiert und der Betrieb langfristig gesichert werden? Dieser Frage widmet sich die digitale Transferwerkstatt am 27. März 2026 von 9:30 bis 12:30 Uhr. Im Mittelpunkt stehen unterschiedliche Betreiber- und Kooperationsmodelle für Soziale Orte\, die als offene\, gemeinschaftliche Einrichtungen vielfältige Nutzungen und Angebote für unterschiedliche Zielgruppen unter einem Dach bündeln. \nDie Veranstaltung richtet sich an Kommunal-\, Landes- und Bundesvertreter:innen\, Sanierungsträger\, Forschung und Beratung\, Vereine\, im Stadtteil aktive Akteur:innen und weitere Interessierte. \nWeitere Informationen\, sowie die Möglichkeit zur Anmeldung finden Sie auf der Webseite des Bundesministerium für Wohnen\, Stadtentwicklung und Bauwesen. \n[/vc_column_text][/vc_column][/vc_row][vc_row][vc_column][vc_column_text css=““]Kontakt\nBundesministerium für Wohnen\, Stadtentwicklung und Bauwesen (BMWSB)\nMail: oeffentlichkeitsarbeit@bmwsb.bund.de\nWeb: www.staedtebaufoerderung.info \nQuelle: https://www.staedtebaufoerderung.info/SharedDocs/termine/DE/sozialerzusammenhalt/260327_TW_Betreibermodelle_Soziale_Orte.html (04.03.2026)[/vc_column_text][/vc_column][/vc_row]
URL:https://www.demokratie-vielfalt-respekt.de/veranstaltung/transferwerkstatt-betreibermodelle-fuer-soziale-orte/
LOCATION:Online
ATTACH;FMTTYPE=image/png:https://www.demokratie-vielfalt-respekt.de/wp-content/uploads/2026/03/Stadstbaufoerderung_Logo.png
END:VEVENT
END:VCALENDAR