BEGIN:VCALENDAR
VERSION:2.0
PRODID:-//Demokratie Vielfalt Respekt - ECPv6.15.20//NONSGML v1.0//EN
CALSCALE:GREGORIAN
METHOD:PUBLISH
X-WR-CALNAME:Demokratie Vielfalt Respekt
X-ORIGINAL-URL:https://www.demokratie-vielfalt-respekt.de
X-WR-CALDESC:Veranstaltungen für Demokratie Vielfalt Respekt
REFRESH-INTERVAL;VALUE=DURATION:PT1H
X-Robots-Tag:noindex
X-PUBLISHED-TTL:PT1H
BEGIN:VTIMEZONE
TZID:Europe/Berlin
BEGIN:DAYLIGHT
TZOFFSETFROM:+0100
TZOFFSETTO:+0200
TZNAME:CEST
DTSTART:20250330T010000
END:DAYLIGHT
BEGIN:STANDARD
TZOFFSETFROM:+0200
TZOFFSETTO:+0100
TZNAME:CET
DTSTART:20251026T010000
END:STANDARD
BEGIN:DAYLIGHT
TZOFFSETFROM:+0100
TZOFFSETTO:+0200
TZNAME:CEST
DTSTART:20260329T010000
END:DAYLIGHT
BEGIN:STANDARD
TZOFFSETFROM:+0200
TZOFFSETTO:+0100
TZNAME:CET
DTSTART:20261025T010000
END:STANDARD
BEGIN:DAYLIGHT
TZOFFSETFROM:+0100
TZOFFSETTO:+0200
TZNAME:CEST
DTSTART:20270328T010000
END:DAYLIGHT
BEGIN:STANDARD
TZOFFSETFROM:+0200
TZOFFSETTO:+0100
TZNAME:CET
DTSTART:20271031T010000
END:STANDARD
END:VTIMEZONE
BEGIN:VEVENT
DTSTART;VALUE=DATE:20260422
DTEND;VALUE=DATE:20260425
DTSTAMP:20260422T022656
CREATED:20260129T070011Z
LAST-MODIFIED:20260130T102833Z
UID:10000820-1776816000-1777075199@www.demokratie-vielfalt-respekt.de
SUMMARY:Fortbildung: Rassistischer Diskriminierung in Schule wirksam entgegenwirken
DESCRIPTION:[vc_row][vc_column][vc_column_text css=““]Die Fortbildung richtet sich an Akteur:innen mit Beratungsfunktion in und um Schulen und unterstützt dabei\, rassistische Diskriminierung im schulischen Kontext sicherer zu erkennen\, einzuordnen und Handlungsmöglichkeiten für Interventionen zu erweitern. Ziel ist es\, mehr Handlungssicherheit im professionellen Umgang mit Diskriminierungsfällen zu erlangen. \nDie Fortbildung arbeitet mit einem Methodenmix aus Impulsvorträgen\, interaktiven Einheiten\, Erfahrungsaustausch und Gruppenarbeiten. Die unterschiedlichen Perspektiven und Erfahrungswerte der Teilnehmenden werden dabei gezielt einbezogen. Dadurch wird der Austausch zwischen schulischen und außerschulischen Akteur:innen gefördert und die Zusammenarbeit als wichtiger Bestandteil diskriminierungskritischer Praxis gestärkt. \nInhalte der drei Module: \n\nDas Basismodul führt in den Themenkomplex Rassismus und dessen Wirkmechanismen im Schulkontext ein.\nDas Praxismodul vermittelt juristische Grundlagen sowie Kompetenzen zur Differenzierung rassistischer Diskriminierungsfälle.\nDas Vertiefungsmodul behandelt diskriminierungskritische Schulentwicklung\, den Umgang mit Widerständen sowie Selbstschutz für Beratende.\n\nDie Teilnahme an der Fortbildung ist kostenfrei. Reise- und Übernachtungskosten können nicht übernommen werden. Für den Erhalt eines Zertifikats ist die Teilnahme an allen drei Veranstaltungstagen verpflichtend. Weitere Informationen zur Fortbildung sowie die Möglichkeit zur Anmeldung (bis zum 12. März 2026) erhalten Sie auf der Projektwebseite von Bildungslücke_Rassismus. \n[/vc_column_text][/vc_column][/vc_row][vc_row][vc_column width=“2/3″][vc_column_text css=““]Kontakt\nLIFE Bildung Umwelt Chancengleichheit e.V.\nProjekt: Bildungslücke_Rassismus\nE-Mail: bilra@life-online.de | info@life-online.de\nTel.: (030) 3087980\nWeb: www.life-online.de \nQuelle: www.bildungsluecke-rassismus.de/fobi-6/ (29.01.2026)[/vc_column_text][/vc_column][vc_column width=“1/3″][vc_single_image source=“featured_image“ add_caption=“yes“ css=““][/vc_column][/vc_row]
URL:https://www.demokratie-vielfalt-respekt.de/veranstaltung/life-bilra-fortbildung-rassistischer-diskriminierung-in-schule-wirksam-entgegenwirken/
LOCATION:LIFE Bildung Umwelt Chancengleichheit\, Rheinstr. 45\, Berlin\, Berlin\, 12161\, Germany
ATTACH;FMTTYPE=image/jpeg:https://www.demokratie-vielfalt-respekt.de/wp-content/uploads/2023/07/bildungsluecke_rassismus.jpg
ORGANIZER;CN="LIFE Bildung Umwelt Chancengleichheit e.V.":MAILTO:info@life-online.de
END:VEVENT
BEGIN:VEVENT
DTSTART;TZID=Europe/Berlin:20260422T170000
DTEND;TZID=Europe/Berlin:20260422T190000
DTSTAMP:20260422T022656
CREATED:20260401T123253Z
LAST-MODIFIED:20260409T120029Z
UID:10000909-1776877200-1776884400@www.demokratie-vielfalt-respekt.de
SUMMARY:Runder Tisch: Wer entscheidet über die Zukunft? Jugendpartizipation und globale Gerechtigkeit mit Blick auf Afrika
DESCRIPTION:[vc_row][vc_column][vc_column_text css=““]In den letzten Jahrzehnten haben junge Menschen weltweit gezeigt\, dass sie aktiv an der Gestaltung unserer Zukunft teilhaben wollen. Politische Bewegungen der Generation Z in Afrika\, Europa und Amerika setzen sich mit Nachdruck gegen Machtmissbrauch\, Klimakrise und Ungleichheit ein. Ihre Botschaft ist klar: Die Jugend ist mit der bisherigen ‘Betreuung’ ihrer Zukunft unzufrieden.Viele junge Menschen wollen nicht länger Zuschauer:innen sein. Doch die Generation Z steht sowohl in den alten Industrieländern des überkommenen\, unter Konkurrenzdruck geratenen Zentrums als auch in vielen Ländern der “Peripherie” vor der neuen Situation\, dass es ihnen ohne tiefgreifende gesellschaftliche Veränderungen mehrheitlich wirtschaftlich und sozial schlechter gehen wird\, als ihren Eltern. Diese neue Situation nährt nicht nur das Streben nach partizipationsorientierten und solidarischeren Veränderungen der Weltgesellschaft\, sondern auch Resignation\, aber bei vielen auch Zustimmung zu autoritären und rassistischen\, suprematistischen Krisenlösungsversprechen: Ein “First” für die vermeintlich eigene Gemeinschaft gegen die “viel zu vielen” Anderen. \nDieses widersprüchliche Streben nach Veränderung\, besonders stark in Afrika\, ist Teil einer globalen Entwicklung. Die Welt befindet sich im Wandel: Machtverhältnisse verschieben sich\, etablierte Regeln wanken\, und der Wettbewerb um Ressourcen erzeugt neue Spannungen – selbst unter ehemaligen Verbündeten. Amerika\, Europa und Asien konkurrieren um Afrika\, um ihren Bedarf an Rohstoffen und natürlichen Ressourcen zu sichern. Gleichzeitig sind viele afrikanische Länder weiterhin gezwungen\, die Last hoher Schulden zu tragen. \nDoch genau in diesem Kontext liegt eine große Chance. Afrika kann eine zentrale Rolle beim Aufbau einer nicht nur neuen\, sondern auch besseren Weltordnung spielen – vorausgesetzt\, die Solidaritätsorientierten der jungen Generation finden wirksame Wege\, sich Gehör zu verschaffen und mitzuentscheiden. \nZu Gast sind: \nFrau Edith Kiami: News and current affairs\, East Africa correspondent Deutsche Welle \nFrau Leonie Back: Mitglied des Landesvorstandes der Grünen Jugend Berlin und Delegierte in der Bundesarbeitsgemeinschaft Globale Entwicklung der Grünen \nHerr Blaise Mbuh: Media Pedagogue\, Filmproduzent und Gründer des ”Bamenda Film School” in Kamerun \nBundes der Deutschen Katholischen Jugend (angefragt) \nDiese Veranstaltung ist gefördert von Engagement Global aus Mitteln des Bundesministeriums für wirtschaftliche Zusammenarbeit und Entwicklung (BMZ). \nAnmeldungen bis zum 21. April 2026 unter: office@bea-ev.org. Bitte geben Sie in der Mail an\, ob sie live oder via Zoom teilnehmen möchten. \nWeitere Informationen finden Sie auf der Website von NARUD e.V. auf Facebook.[/vc_column_text][/vc_column][/vc_row][vc_row][vc_column][vc_column_text css=““]Kontakt\nBündnis für Entwicklungspolitik mit Afrika e.V.\nE-Mail: office@bea-ev.org\nTel.: (0) 30  40 75 75 51 \nQuelle: www.facebook.com/narudberlin/ (09.04.2026)[/vc_column_text][/vc_column][/vc_row]
URL:https://www.demokratie-vielfalt-respekt.de/veranstaltung/runder-tisch-wer-entscheidet-ueber-die-zukunft-jugendpartizipation-und-globale-gerechtigkeit-mit-blick-auf-afrika/
LOCATION:Schiller-Bibliothek\, Müllerstr. 149\, Berlin\, 13353\, Germany
ATTACH;FMTTYPE=image/jpeg:https://www.demokratie-vielfalt-respekt.de/wp-content/uploads/2026/04/Runder-Tisch-BEA-eV.jpg
END:VEVENT
END:VCALENDAR