BEGIN:VCALENDAR
VERSION:2.0
PRODID:-//Demokratie Vielfalt Respekt - ECPv6.15.20//NONSGML v1.0//EN
CALSCALE:GREGORIAN
METHOD:PUBLISH
X-WR-CALNAME:Demokratie Vielfalt Respekt
X-ORIGINAL-URL:https://www.demokratie-vielfalt-respekt.de
X-WR-CALDESC:Veranstaltungen für Demokratie Vielfalt Respekt
REFRESH-INTERVAL;VALUE=DURATION:PT1H
X-Robots-Tag:noindex
X-PUBLISHED-TTL:PT1H
BEGIN:VTIMEZONE
TZID:Europe/Berlin
BEGIN:DAYLIGHT
TZOFFSETFROM:+0100
TZOFFSETTO:+0200
TZNAME:CEST
DTSTART:20250330T010000
END:DAYLIGHT
BEGIN:STANDARD
TZOFFSETFROM:+0200
TZOFFSETTO:+0100
TZNAME:CET
DTSTART:20251026T010000
END:STANDARD
BEGIN:DAYLIGHT
TZOFFSETFROM:+0100
TZOFFSETTO:+0200
TZNAME:CEST
DTSTART:20260329T010000
END:DAYLIGHT
BEGIN:STANDARD
TZOFFSETFROM:+0200
TZOFFSETTO:+0100
TZNAME:CET
DTSTART:20261025T010000
END:STANDARD
BEGIN:DAYLIGHT
TZOFFSETFROM:+0100
TZOFFSETTO:+0200
TZNAME:CEST
DTSTART:20270328T010000
END:DAYLIGHT
BEGIN:STANDARD
TZOFFSETFROM:+0200
TZOFFSETTO:+0100
TZNAME:CET
DTSTART:20271031T010000
END:STANDARD
END:VTIMEZONE
BEGIN:VEVENT
DTSTART;TZID=Europe/Berlin:20260701T090000
DTEND;TZID=Europe/Berlin:20260701T170000
DTSTAMP:20260424T234736
CREATED:20260424T090240Z
LAST-MODIFIED:20260424T091531Z
UID:10000974-1782896400-1782925200@www.demokratie-vielfalt-respekt.de
SUMMARY:Fortbildung: Intersektional gegen Antisemitismus und Rassismus
DESCRIPTION:[vc_row][vc_column][vc_column_text css=““]Debatten über Rassismus und Antisemitismus werden in den letzten Jahren sowohl im öffentlichen als auch in pädagogischen Räumen zunehmend polarisierend geführt. Damit verbundene Themen wie der Israel-Palästina-Konflikt\, das Gedenken an die Shoah und an Kolonialismus oder das Verhältnis von Antisemitismus und Rassismus zueinander haben große Sprengkraft und rufen starke Emotionen hervor\, insbesondere in Gruppen mit heterogenen biographischen Zugängen\, Perspektiven und Positioniertheiten. \nWer sich pädagogisch gegen Rassismus und/oder Antisemitismus engagieren möchte\, sieht sich deswegen nicht erst seit dem antisemitischen Massaker am 7. Oktober 2023 und dem seither andauernden Krieg in Gaza mit einer Vielzahl von Fragen und Herausforderungen konfrontiert: Was sind Antisemitismus und Rassismus überhaupt? Welche Gemeinsamkeiten und Unterschiede kennzeichnen sie? Welche Interdependenzen gibt es und wie stark sind beide Gewaltverhältnisse eigentlich miteinander verwoben? Wie können wir diesen Ungleichheitsverhältnissen pädagogisch begegnen\, durch Antisemitismus und/oder Rassismus Betroffenene schützen und stärken und zugleich weit verbreiteten Konkurrenz- und Entweder-Oder-Annahmen entgegenwirken? Welche Umgangsweisen mit der oftmals hohen Emotionalität im Themenfeld haben sich bisher als hilfreich erwiesen? \nIn der zweitägigen Fortbildung sollen gemeinsam Handlungsansätze der pädagogischen Arbeit gegen Antisemitismus und Rassismus erarbeitet werden\, die beiden Diskriminierungen in ihren Gemeinsamkeiten\, Besonderheiten und intersektionalen Bezügen gerecht werden und dabei verbindend wirken\, statt Trennungen und Ausschlüsse zu (re-)produzieren. Die Fortbildung ist inhaltlich darauf ausgerichtet\, Lernprozesse hinsichtlich Haltung\, Wissen und Methodik/Didaktik zu ermöglichen und dadurch bei den Teilnehmenden zu mehr pädagogischer Handlungssicherheit gegen Rassismus und Antisemitismus beizutragen. \nDiese Fortbildung wird in Kooperation mit dem BildungsBausteine-Projekt „as_ra – Intersektional gegen Rassismus und Antisemitismus“ durchgeführt. \nDie Teilnahme ist kostenlos. Eine Anmeldung ist auf der Website der Berliner Landeszentrale für politische Bildung möglich.[/vc_column_text][/vc_column][/vc_row][vc_row][vc_column width=“2/3″][vc_column_text css=““]Kontakt\nBerliner Landeszentrale für politische Bildung\nAnsprechperson: Thomas Gill\nE-Mail: thomas.gill@senbjf.berlin.de\nTel.: (030) 90227 4961\nWeb: www.berlin.de/politische-bildung \nQuelle: https://www.berlin.de/veranstaltungen/intersektional-gegen-antisemitismus-und-rassismus.php (24.04.2026)[/vc_column_text][/vc_column][vc_column width=“1/3″][vc_single_image source=“featured_image“ add_caption=“yes“ alignment=“right“ css=““][/vc_column][/vc_row]
URL:https://www.demokratie-vielfalt-respekt.de/veranstaltung/fortbildung-intersektional-gegen-antisemitismus-und-rassismus/2026-07-01/
LOCATION:Berliner Landeszentrale für politische Bildung\, Hardenbergstraße 22–24\, Berlin\, Berlin\, 10623\, Germany
ATTACH;FMTTYPE=image/png:https://www.demokratie-vielfalt-respekt.de/wp-content/uploads/2026/04/Berliner-Landeszentrale-fuer-politische-Bildung_Logo.png
ORGANIZER;CN="Berliner Landeszentrale f%C3%BCr politische Bildung":MAILTO:landeszentrale@senbjf.berlin.de
END:VEVENT
BEGIN:VEVENT
DTSTART;TZID=Europe/Berlin:20260702T090000
DTEND;TZID=Europe/Berlin:20260702T170000
DTSTAMP:20260424T234736
CREATED:20260424T090240Z
LAST-MODIFIED:20260424T091531Z
UID:10000975-1782982800-1783011600@www.demokratie-vielfalt-respekt.de
SUMMARY:Fortbildung: Intersektional gegen Antisemitismus und Rassismus
DESCRIPTION:[vc_row][vc_column][vc_column_text css=““]Debatten über Rassismus und Antisemitismus werden in den letzten Jahren sowohl im öffentlichen als auch in pädagogischen Räumen zunehmend polarisierend geführt. Damit verbundene Themen wie der Israel-Palästina-Konflikt\, das Gedenken an die Shoah und an Kolonialismus oder das Verhältnis von Antisemitismus und Rassismus zueinander haben große Sprengkraft und rufen starke Emotionen hervor\, insbesondere in Gruppen mit heterogenen biographischen Zugängen\, Perspektiven und Positioniertheiten. \nWer sich pädagogisch gegen Rassismus und/oder Antisemitismus engagieren möchte\, sieht sich deswegen nicht erst seit dem antisemitischen Massaker am 7. Oktober 2023 und dem seither andauernden Krieg in Gaza mit einer Vielzahl von Fragen und Herausforderungen konfrontiert: Was sind Antisemitismus und Rassismus überhaupt? Welche Gemeinsamkeiten und Unterschiede kennzeichnen sie? Welche Interdependenzen gibt es und wie stark sind beide Gewaltverhältnisse eigentlich miteinander verwoben? Wie können wir diesen Ungleichheitsverhältnissen pädagogisch begegnen\, durch Antisemitismus und/oder Rassismus Betroffenene schützen und stärken und zugleich weit verbreiteten Konkurrenz- und Entweder-Oder-Annahmen entgegenwirken? Welche Umgangsweisen mit der oftmals hohen Emotionalität im Themenfeld haben sich bisher als hilfreich erwiesen? \nIn der zweitägigen Fortbildung sollen gemeinsam Handlungsansätze der pädagogischen Arbeit gegen Antisemitismus und Rassismus erarbeitet werden\, die beiden Diskriminierungen in ihren Gemeinsamkeiten\, Besonderheiten und intersektionalen Bezügen gerecht werden und dabei verbindend wirken\, statt Trennungen und Ausschlüsse zu (re-)produzieren. Die Fortbildung ist inhaltlich darauf ausgerichtet\, Lernprozesse hinsichtlich Haltung\, Wissen und Methodik/Didaktik zu ermöglichen und dadurch bei den Teilnehmenden zu mehr pädagogischer Handlungssicherheit gegen Rassismus und Antisemitismus beizutragen. \nDiese Fortbildung wird in Kooperation mit dem BildungsBausteine-Projekt „as_ra – Intersektional gegen Rassismus und Antisemitismus“ durchgeführt. \nDie Teilnahme ist kostenlos. Eine Anmeldung ist auf der Website der Berliner Landeszentrale für politische Bildung möglich.[/vc_column_text][/vc_column][/vc_row][vc_row][vc_column width=“2/3″][vc_column_text css=““]Kontakt\nBerliner Landeszentrale für politische Bildung\nAnsprechperson: Thomas Gill\nE-Mail: thomas.gill@senbjf.berlin.de\nTel.: (030) 90227 4961\nWeb: www.berlin.de/politische-bildung \nQuelle: https://www.berlin.de/veranstaltungen/intersektional-gegen-antisemitismus-und-rassismus.php (24.04.2026)[/vc_column_text][/vc_column][vc_column width=“1/3″][vc_single_image source=“featured_image“ add_caption=“yes“ alignment=“right“ css=““][/vc_column][/vc_row]
URL:https://www.demokratie-vielfalt-respekt.de/veranstaltung/fortbildung-intersektional-gegen-antisemitismus-und-rassismus/2026-07-02/
LOCATION:Berliner Landeszentrale für politische Bildung\, Hardenbergstraße 22–24\, Berlin\, Berlin\, 10623\, Germany
ATTACH;FMTTYPE=image/png:https://www.demokratie-vielfalt-respekt.de/wp-content/uploads/2026/04/Berliner-Landeszentrale-fuer-politische-Bildung_Logo.png
ORGANIZER;CN="Berliner Landeszentrale f%C3%BCr politische Bildung":MAILTO:landeszentrale@senbjf.berlin.de
END:VEVENT
END:VCALENDAR