BEGIN:VCALENDAR
VERSION:2.0
PRODID:-//Demokratie Vielfalt Respekt - ECPv6.15.20//NONSGML v1.0//EN
CALSCALE:GREGORIAN
METHOD:PUBLISH
X-WR-CALNAME:Demokratie Vielfalt Respekt
X-ORIGINAL-URL:https://www.demokratie-vielfalt-respekt.de
X-WR-CALDESC:Veranstaltungen für Demokratie Vielfalt Respekt
REFRESH-INTERVAL;VALUE=DURATION:PT1H
X-Robots-Tag:noindex
X-PUBLISHED-TTL:PT1H
BEGIN:VTIMEZONE
TZID:Europe/Berlin
BEGIN:DAYLIGHT
TZOFFSETFROM:+0100
TZOFFSETTO:+0200
TZNAME:CEST
DTSTART:20230326T010000
END:DAYLIGHT
BEGIN:STANDARD
TZOFFSETFROM:+0200
TZOFFSETTO:+0100
TZNAME:CET
DTSTART:20231029T010000
END:STANDARD
BEGIN:DAYLIGHT
TZOFFSETFROM:+0100
TZOFFSETTO:+0200
TZNAME:CEST
DTSTART:20240331T010000
END:DAYLIGHT
BEGIN:STANDARD
TZOFFSETFROM:+0200
TZOFFSETTO:+0100
TZNAME:CET
DTSTART:20241027T010000
END:STANDARD
BEGIN:DAYLIGHT
TZOFFSETFROM:+0100
TZOFFSETTO:+0200
TZNAME:CEST
DTSTART:20250330T010000
END:DAYLIGHT
BEGIN:STANDARD
TZOFFSETFROM:+0200
TZOFFSETTO:+0100
TZNAME:CET
DTSTART:20251026T010000
END:STANDARD
BEGIN:DAYLIGHT
TZOFFSETFROM:+0100
TZOFFSETTO:+0200
TZNAME:CEST
DTSTART:20260329T010000
END:DAYLIGHT
BEGIN:STANDARD
TZOFFSETFROM:+0200
TZOFFSETTO:+0100
TZNAME:CET
DTSTART:20261025T010000
END:STANDARD
END:VTIMEZONE
BEGIN:VEVENT
DTSTART;TZID=Europe/Berlin:20251127T093000
DTEND;TZID=Europe/Berlin:20251127T163000
DTSTAMP:20260423T034819
CREATED:20251022T091232Z
LAST-MODIFIED:20251022T091232Z
UID:10000738-1764235800-1764261000@www.demokratie-vielfalt-respekt.de
SUMMARY:Demokratiebildung in der Kita – Partizipation und Teilhabe mit digitalen Werkzeugen gestalten
DESCRIPTION:[vc_row][vc_column][vc_column_text css=““]Wie können Kinder schon in der Kita lernen\, dass ihre Stimme zählt? Welche Möglichkeiten haben pädagogische Fachkräfte\, um demokratische Prozesse kindgerecht zu fördern? Und welche Rolle spielen digitale Medien dabei? Dieses Seminar widmet sich der Frage\, wie Demokratiebildung im frühkindlichen Bereich praktisch und inklusiv umgesetzt werden kann. Ein besonderer Schwerpunkt liegt auf digitalen Teilhabetools und medienpädagogischen Impulsen\, die auch in der Kita sinnvoll und kreativ eingesetzt werden können: von einfachen Foto- und Audio-Projekten über digitale Abstimmungsmethoden bis hin zu Tools\, mit denen Kinder ihre Sicht auf die Welt ausdrücken können. Teilnehmer:innen erhalten konkrete Ideen\, erproben Methoden und reflektieren gemeinsam\, wie eine demokratische Alltagskultur in ihrer Einrichtung gefördert werden kann – mit analogen und digitalen Mitteln. \nWeitere Informationen sowie die Anmeldung finden Sie auf der Webseite des Fortbildungsinstituts WeTek.[/vc_column_text][/vc_column][/vc_row][vc_row][vc_column width=“2/3″][vc_column_text css=““]Kontakt\nWeTeK Berlin gGmbH\nE- Mail: medienbildung@wetek.de\nWeb: www.wetek.de \nQuelle: www.wetek.de/workshop (22.10.2025)[/vc_column_text][/vc_column][vc_column width=“1/3″][vc_single_image source=“featured_image“ css=““][/vc_column][/vc_row]
URL:https://www.demokratie-vielfalt-respekt.de/veranstaltung/demokratiebildung-in-der-kita-partizipation-und-teilhabe-mit-digitalen-werkzeugen-gestalten/
LOCATION:Medienkompetenzzentrum Pankow\, Hosemannstraße 14\, Berlin\, Berlin\, 10409\, Germany
ATTACH;FMTTYPE=image/png:https://www.demokratie-vielfalt-respekt.de/wp-content/uploads/2024/07/WeTek_Berlin_Logo.png
ORGANIZER;CN="WeTeK Berlin gGmbH":MAILTO:info@wetek.de
END:VEVENT
BEGIN:VEVENT
DTSTART;TZID=Europe/Berlin:20251125T093000
DTEND;TZID=Europe/Berlin:20251125T170000
DTSTAMP:20260423T034819
CREATED:20251022T090507Z
LAST-MODIFIED:20251022T090623Z
UID:10000737-1764063000-1764090000@www.demokratie-vielfalt-respekt.de
SUMMARY:Verschwörungserzählungen im Netz – Tools und Methoden für die Jugendarbeit
DESCRIPTION:[vc_row][vc_column][vc_column_text css=““]In einer digitalen Welt voller TikTok-Videos\, Memes und Falschinformationen fällt es Jugendlichen oft schwer\, Wahrheit von Täuschung zu unterscheiden. Dieses Seminar unterstützt pädagogische Fachkräfte dabei\, Jugendliche im Umgang mit Desinformation und Verschwörungsmythen zu stärken – von der „inszenierten“ Mondlandung bis hin zu Reptilienmenschen. Ziel ist es\, Jugendlichen zu helfen\, die Gefahren solcher Mythen frühzeitig zu erkennen\, ein kritisches Medienbewusstsein zu entwickeln und demokratiefeindlichen sowie diskriminierenden Inhalten entgegenzuwirken. Das Seminar vermittelt praxisnahe Methoden zur Prävention und Aufklärung für die Jugend- und Schulsozialarbeit. \nWeitere Informationen sowie die Anmeldung finden Sie auf der Webseite des Fortbildungsinstituts WeTek.[/vc_column_text][/vc_column][/vc_row][vc_row][vc_column width=“2/3″][vc_column_text css=““]Kontakt\nWeTeK Berlin gGmbH\nE- Mail: medienbildung@wetek.de\nWeb: www.wetek.de \nQuelle: www.wetek.de/workshop (22.10.2025)[/vc_column_text][/vc_column][vc_column width=“1/3″][vc_single_image source=“featured_image“ css=““][/vc_column][/vc_row]
URL:https://www.demokratie-vielfalt-respekt.de/veranstaltung/verschwoerungserzaehlungen-im-netz-tools-und-methoden-fuer-die-jugendarbeit/
LOCATION:Medienkompetenzzentrum Pankow\, Hosemannstraße 14\, Berlin\, Berlin\, 10409\, Germany
ATTACH;FMTTYPE=image/png:https://www.demokratie-vielfalt-respekt.de/wp-content/uploads/2024/07/WeTek_Berlin_Logo.png
ORGANIZER;CN="WeTeK Berlin gGmbH":MAILTO:info@wetek.de
END:VEVENT
BEGIN:VEVENT
DTSTART;TZID=Europe/Berlin:20251007T090000
DTEND;TZID=Europe/Berlin:20251007T170000
DTSTAMP:20260423T034819
CREATED:20250627T092748Z
LAST-MODIFIED:20250627T092748Z
UID:10000654-1759827600-1759856400@www.demokratie-vielfalt-respekt.de
SUMMARY:Fachtag Medienkompetenz verbindet 2025
DESCRIPTION:[vc_row][vc_column][vc_column_text css=““]In fünf Workshops und in zusätzlichen fachlichen Austauschrunden an Wertetischen werden verschiedene Aspekte des Themas beleuchtet. Erfahrene Referent:innen geben praxisnahe Einblicke und vermitteln\, wie man demokratiegefährdende digitale Inhalte erkennen und begegnen kann und die Entwicklung eines demokratischen Miteinanders auch in der Kinder- und Jugendarbeit gelingt. Zudem gibt es Inputs und Beiträge folgender jugendpolitischer und medianpädagogischer Akteur:innen: \n\n\nKeynote zum Thema „Hass und Desinformation im Netz: Chancen und Herausforderungen von pädagogischen Angeboten der politischen Medienbildung“| Carolin Rössler\nZum Thema „Herausgeforderte Demokratie – Ein Auftrag für die Medienbildung!?“ diskutieren im Panel u.a.:\n\nLisa Usik (MdA) // jugendpolitische Sprecherin der CDU [angefragt]\nAlexander Freier-Winterwerb (MdA) // Sprecher für Kinder\, Jugend\, Familie der SPD [angefragt]\nKlara Ehrmann // Bildungsmanagement bei Bits21 im fjs e.V.\nDr. Guido Bröckling // JFF – Institut für Medienpädagogik\, Büro Berlin\n\n\n\nDie Fachtagung richtet sich an Fachkräfte im Jugendbereich und der Schulsozialarbeit. Ziel ist es\, gemeinsam an diesem wichtigen Thema zu arbeiten und Strategien zu entwickeln\, um Desinformation und Extremismus zu bekämpfen und ein respektvolles Miteinander zu fördern. Eine Anmeldung ist bis zum 09. September über das Sozialpädagogische Fortbildungsinstitut Berlin-Brandenburg (SFBB) möglich. Weitere Informationen zum Programm und den Referent:innen erhalten Sie auf der Webseite von jugendnetz.berlin. \n\n\n[/vc_column_text][/vc_column][/vc_row][vc_row][vc_column width=“2/3″][vc_column_text css=““]Kontakt\nJugendnetz Berlin\nc/o Jugend- und Familienstiftung des Landes Berlin\nE-Mail: go@jugendnetz.berlin\nTel.: (030) 2947 019 – 30\nWeb: www.jugendnetz.berlin \nQuelle: www.jugendnetz.berlin/fachtag-meko-verbindet (27.06.2025)[/vc_column_text][/vc_column][vc_column width=“1/3″][vc_single_image source=“featured_image“][/vc_column][/vc_row]
URL:https://www.demokratie-vielfalt-respekt.de/veranstaltung/jnb-fachtag-medienkompetenz-verbindet-2025/
LOCATION:Jagdschloss Glienicke\, Königstraße 36b\, Berlin\, 14109
ATTACH;FMTTYPE=image/png:https://www.demokratie-vielfalt-respekt.de/wp-content/uploads/2024/05/jnb-logo-NEU_rgb_bg-weiss.png
ORGANIZER;CN="Sozialp%C3%A4dagogisches Fortbildungsinstitut Berlin-Brandenburg (SFBB)":MAILTO:info@sfbb.Berlin-Brandenburg.de
END:VEVENT
BEGIN:VEVENT
DTSTART;TZID=Europe/Berlin:20250724T093000
DTEND;TZID=Europe/Berlin:20250724T160000
DTSTAMP:20260423T034819
CREATED:20250715T093823Z
LAST-MODIFIED:20250715T093823Z
UID:10000659-1753349400-1753372800@www.demokratie-vielfalt-respekt.de
SUMMARY:Demokratiebildung in der Kita – Partizipation und Teilhabe mit digitalen Werkzeugen gestalten
DESCRIPTION:[vc_row][vc_column width=“2/3″][vc_column_text css=““]Wie können Kinder schon in der Kita lernen\, dass ihre Stimme zählt? Welche Möglichkeiten haben pädagogische Fachkräfte\, um demokratische Prozesse kindgerecht zu fördern? Und welche Rolle spielen digitale Medien dabei?Dieses Seminar widmet sich der Frage\, wie Demokratiebildung im frühkindlichen Bereich praktisch und inklusiv umgesetzt werden kann. Ein besonderer Schwerpunkt liegt auf digitalen Teilhabetools und medienpädagogischen Impulsen\, die auch in der Kita sinnvoll und kreativ eingesetzt werden können: von einfachen Foto- und Audio-Projekten über digitale Abstimmungsmethoden bis hin zu Tools\, mit denen Kinder ihre Sicht auf die Welt ausdrücken können. \nFachkräfte erhalten konkrete Ideen\, erproben Methoden und reflektieren gemeinsam\, wie eine demokratische Alltagskultur in ihrer Einrichtung gefördert werden kann – mit analogen und digitalen Mitteln. Für die Teilnahme erhalten Fachkräfte eine Bescheinigung mit Kursinhalten und Kursdauer. \nWeitere Informationen sowie die Anmeldung finden Sie auf der Webseite der Fokus Medienbildung.[/vc_column_text][vc_column_text css=““]Kontakt\nWeTeK Berlin gGmbH\nE-Mail: info@wetek.de\nWeb: www.wetek.de \nQuelle: www.fokus-medienbildung.de/Kita-Bildung (15.07.2025)[/vc_column_text][/vc_column][vc_column width=“1/3″][vc_single_image source=“featured_image“ css=““][/vc_column][/vc_row]
URL:https://www.demokratie-vielfalt-respekt.de/veranstaltung/wetek-demokratiebildung-in-der-kita/
LOCATION:Medienzentrum Pankow\, Hosemannstraße 14\, Berlin\, Berlin\, 10409
ATTACH;FMTTYPE=image/jpeg:https://www.demokratie-vielfalt-respekt.de/wp-content/uploads/2025/07/Demokratiebildung-in-der-Kita-Seminar.jpg
ORGANIZER;CN="WeTeK Berlin gGmbH":MAILTO:info@wetek.de
END:VEVENT
BEGIN:VEVENT
DTSTART;TZID=Europe/Berlin:20241015T093000
DTEND;TZID=Europe/Berlin:20241015T173000
DTSTAMP:20260423T034819
CREATED:20240424T122537Z
LAST-MODIFIED:20240626T122529Z
UID:10000421-1728984600-1729013400@www.demokratie-vielfalt-respekt.de
SUMMARY:Fachtag Medienkompetenz verbindet
DESCRIPTION:[vc_row][vc_column][vc_column_text css=““]In fünf Workshops und in zusätzlichen fachlichen Austauschrunden werden verschiedene Aspekte des Themas beleuchtet: \n\nAntisemitismus und Antimuslimischen Rassismus gemeinsam denken\nDeepnudes\, Cybergrooming und Sextortion\nMinetest für demokratische Zwecke nutzen\nFake News\, Propaganda\, Desinformation\nGenerative KI\n\nDazu geben erfahrene Referent:innen in Keynotes praxisnahe Einblicke und vermitteln Methoden\, wie Hass im Netz begegnet werden kann und wie demokratisches Miteinander auch in der Kinder- und Jugendarbeit weiterentwickelt werden kann. \nDie Fachtagung richtet sich an Fachkräfte im Jugendbereich und der Schulsozialarbeit. Ziel ist es\, gemeinsam an diesem wichtigen Thema zu arbeiten und Strategien zu entwickeln\, um Hass zu bekämpfen und ein respektvolles Miteinander zu fördern. Eine Anmeldung ist bis zum 03. September über das (Sozialpädagogische Fortbildungsinstitut Berlin-Brandenburg (SFBB) möglich. Weitere Informationen zum Program und den Referent:innen erhalten Sie auf der Webseite von Jugendnetz Berlin.[/vc_column_text][/vc_column][/vc_row][vc_row][vc_column width=“2/3″][vc_column_text css=““]Kontakt\nJugendnetz Berlin\nc/o Jugend- und Familienstiftung des Landes Berlin\nE-Mail: go@jugendnetz.berlin\nTel.: (030) 2947 019 – 30\nWeb: www.jugendnetz.berlin \nQuelle: www.jugendnetz.berlin/Fachtag-MeKo-verbindet (24.06.2024)[/vc_column_text][/vc_column][vc_column width=“1/3″][vc_single_image source=“featured_image“][/vc_column][/vc_row]
URL:https://www.demokratie-vielfalt-respekt.de/veranstaltung/jnb-fachtag-medienkompetenz-verbindet/
LOCATION:Jagdschloss Glienicke\, Königstraße 36b\, Berlin\, 14109
ATTACH;FMTTYPE=image/png:https://www.demokratie-vielfalt-respekt.de/wp-content/uploads/2024/05/jnb-logo-NEU_rgb_bg-weiss.png
ORGANIZER;CN="Sozialp%C3%A4dagogisches Fortbildungsinstitut Berlin-Brandenburg (SFBB)":MAILTO:info@sfbb.Berlin-Brandenburg.de
END:VEVENT
BEGIN:VEVENT
DTSTART;TZID=Europe/Berlin:20240912T100000
DTEND;TZID=Europe/Berlin:20240912T140000
DTSTAMP:20260423T034819
CREATED:20240726T060000Z
LAST-MODIFIED:20240728T072546Z
UID:10000477-1726135200-1726149600@www.demokratie-vielfalt-respekt.de
SUMMARY:Fachaustausch "Digitale Gewalt und Manipulation: Von Rechtsruck bis Deepfakes"
DESCRIPTION:[vc_row][vc_column][vc_column_text css=““]In einer Zeit\, in der digitale Technologien unsere Kommunikation und Informationsverarbeitung prägen\, wird auch das Potenzial für Missbrauch immer deutlicher. Von gezielten Desinformationskampagnen über manipulative digitale Inhalte bis hin zu extremistischen Einflüssen – die Bandbreite der digitalen Gewalt ist vielfältig und oft schwer zu durchschauen. \nDer Fachaustausch bietet eine Auseinandersetzung mit diesen aktuellen Herausforderungen. Auf dem Programm stehen zwei praxisorientierte Workshops und ein fundierter Input\, der sich genauer mit digitalen Medien und Rechtsextremismus auseinandersetzt. Zudem bietet der Fachaustausch Raum für neue Impulse\, Diskussionen und Austausch über Möglichkeiten\, um besser auf die vielfältigen Formen digitaler Gewalt reagieren zu können. \nDie Veranstaltung richtet sich an Sozialpädagogische Fachkräfte aller Handlungsfelder der Kinder- und Jugendhilfe. Die Teilnahme an der Veranstaltung ist kostenlos. Weitere Informationen sowie die Möglichkeit zur Anmeldung erhalten Sie in der Ausschreibung.[/vc_column_text][/vc_column][/vc_row][vc_row][vc_column width=“1/2″][vc_column_text css=““]Kontakt\nWeTek Berlin gGmbH\nE-Mail: info@wetek.de\nTel.: (030) 225 01 50 – 0\nWeb: www.wetek.de \nQuelle: wwww.fokus-medienbildung.de (26.07.2024)[/vc_column_text][/vc_column][vc_column width=“1/2″][vc_single_image source=“featured_image“ css=““][/vc_column][/vc_row]
URL:https://www.demokratie-vielfalt-respekt.de/veranstaltung/wetek-fachaustausch-digitale-gewalt-und-manipulation/
LOCATION:Medienzentrum Pankow\, Hosemannstraße 14\, Berlin\, Berlin\, 10409
ATTACH;FMTTYPE=image/png:https://www.demokratie-vielfalt-respekt.de/wp-content/uploads/2024/07/WeTek_Berlin_Logo.png
ORGANIZER;CN="WeTeK Berlin gGmbH":MAILTO:info@wetek.de
END:VEVENT
BEGIN:VEVENT
DTSTART;TZID=Europe/Berlin:20240619T090000
DTEND;TZID=Europe/Berlin:20240619T160000
DTSTAMP:20260423T034819
CREATED:20240518T074628Z
LAST-MODIFIED:20240518T074628Z
UID:10000451-1718787600-1718812800@www.demokratie-vielfalt-respekt.de
SUMMARY:Social Media und Rechtsextremismus: Demokratiefeindliche Strategien verstehen
DESCRIPTION:[vc_row][vc_column width=“2/3″][vc_column_text css=““]Demokratiefeindlichkeit auf TikTok hat großen Zulauf und wird meist manipulativ und subtil vermittelt. Doch wie können wir demokratiefeindliche Inhalte identifizieren? Im Seminar werden Methoden beleuchtet\, mit denen Rechtsextreme soziale Netzwerke für ihre Zwecke instrumentalisieren – von der Verbreitung von Fake News bis hin zur Rekrutierung neuer Anhänger:innen. \nNeben der Vermittlung von notwendigem Wissen\, um demokratiefeindliche Aktivitäten zu erkennen und kritisch zu hinterfragen\, werden Methoden zur Erprobung mit Heranwachsenden vorgestellt. Gemeinsam erarbeiten die Teilnehmenden Strategien\, um Resilienz zu fördern und das Besusstsein Jugendlicher fgegenüber rechtsextremen Bedrohungen zu stärken.[/vc_column_text][/vc_column][vc_column width=“1/3″][vc_single_image source=“featured_image“][/vc_column][/vc_row][vc_row][vc_column][vc_column_text css=““]Folgende Inhalte werden bei der Fortbildung besprochen: \n\nEinordnung Hass im Netz\nRechtsextremismus auf Social Media\nDemokratiefeindliche Strategien erkennen und einordnen\nDemokratiebildung\nHandlungs- und Beratungssicherheit erlangen\n\nDie Veranstaltung richtet sich an Sozialpädagogische Fachkräfte der Kinder- und Jugendhilfe. Die Teilnahme an der Veranstaltung ist kostenlos. Weitere Informationen sowie die Möglichkeit zur Anmeldung erhalten Sie in der Ausschreibung.[/vc_column_text][/vc_column][/vc_row][vc_row][vc_column][vc_column_text css=““]Kontakt\nFokus Medienbildung\nc/o BITS 21 im Förderverein für Jugend und Sozialarbeit e.V.\nE-Mail: info@bits21.de\nWeb: www.fokus-medienbildung.de \nQuelle: wwww.fokus-medienbildung.de (18.05.2024)[/vc_column_text][/vc_column][/vc_row]
URL:https://www.demokratie-vielfalt-respekt.de/veranstaltung/bits21-social-media-rechtsextremismus/
LOCATION:BITS 21 im fjs e.V.\, Marchlewskistr. 27\, Berlin\, 10243
ATTACH;FMTTYPE=image/jpeg:https://www.demokratie-vielfalt-respekt.de/wp-content/uploads/2024/01/BITS21.jpg
ORGANIZER;CN="BITS 21":MAILTO:info@bits21.de
END:VEVENT
BEGIN:VEVENT
DTSTART;TZID=Europe/Berlin:20240131T100000
DTEND;TZID=Europe/Berlin:20240131T150000
DTSTAMP:20260423T034819
CREATED:20240117T115646Z
LAST-MODIFIED:20240119T091130Z
UID:10000361-1706695200-1706713200@www.demokratie-vielfalt-respekt.de
SUMMARY:Fachaustausch: "Grenzenloses Internet: Zwischen Fake News und Hass im Netz"
DESCRIPTION:[vc_row][vc_column width=“2/3″][vc_column_text]In den letzten Jahren hat sich das Internet zunehmend zu einem Raum entwickelt\, in dem Hassrede\, Hetze\, Anfeindungen\, Fake News und Verschwörungstheorien immer präsenter wurden. Um diesen Entwicklungen entgegenzuwirken\, bedarf es einer gezielten Auseinandersetzung. \nHass im Netz äußert sich durch abwertende Kommentare\, falsche sowie irreführende Tatsachenbehauptungen oder multipliziert sich durch Verschwörungsmythen. Davon sind sowohl Einzelpersonen als auch ganze Menschengruppen betroffen. Ein wesentlicher Aspekt der Medienbildung ist es\, Heranwachsende und Erwachsene für diese Thematik zu sensibilisieren und ihnen die Bedeutung eines respektvollen und wertschätzenden Umgangs in der digitalen Kommunikation zu vermitteln. Dazu gehört auch\, die Fähigkeit zu fördern\, Beiträge kritisch zu hinterfragen und die Authentizität von Informationen zu überprüfen\, besonders im Hinblick auf die Verbreitung von Falschnachrichten. \nDie Veranstaltung richtet sich an Sozialpädagogische Fachkräfte der Kinder- und Jugendhilfe. Die Teilnahme an der Veranstaltung ist kostenlos. Weitere Informationen sowie die Möglichkeit zur Anmeldung erhalten Sie in der Ausschreibung.[/vc_column_text][/vc_column][vc_column width=“1/3″][vc_single_image source=“featured_image“ css=“.vc_custom_1705492580610{margin-top: 50px !important;}“][/vc_column][/vc_row][vc_row][vc_column][vc_column_text]Kontakt\nFokus Medienbildung\nc/o BITS 21 im Förderverein für Jugend und Sozialarbeit e.V.\nE-Mail: info@bits21.de\nWeb: www.fokus-medienbildung.de \nQuelle: wwww.fokus-medienbildung.de (17.01.2024)[/vc_column_text][/vc_column][/vc_row]
URL:https://www.demokratie-vielfalt-respekt.de/veranstaltung/bits21-fachaustausch-fake-news/
LOCATION:Heinrich-Böll-Bibliothek\, Greifswalder Straße 87\, Berlin\, 10409
ATTACH;FMTTYPE=image/jpeg:https://www.demokratie-vielfalt-respekt.de/wp-content/uploads/2024/01/BITS21.jpg
ORGANIZER;CN="BITS 21":MAILTO:info@bits21.de
END:VEVENT
END:VCALENDAR