BEGIN:VCALENDAR
VERSION:2.0
PRODID:-//Demokratie Vielfalt Respekt - ECPv6.15.20//NONSGML v1.0//EN
CALSCALE:GREGORIAN
METHOD:PUBLISH
X-WR-CALNAME:Demokratie Vielfalt Respekt
X-ORIGINAL-URL:https://www.demokratie-vielfalt-respekt.de
X-WR-CALDESC:Veranstaltungen für Demokratie Vielfalt Respekt
REFRESH-INTERVAL;VALUE=DURATION:PT1H
X-Robots-Tag:noindex
X-PUBLISHED-TTL:PT1H
BEGIN:VTIMEZONE
TZID:Europe/Berlin
BEGIN:DAYLIGHT
TZOFFSETFROM:+0100
TZOFFSETTO:+0200
TZNAME:CEST
DTSTART:20240331T010000
END:DAYLIGHT
BEGIN:STANDARD
TZOFFSETFROM:+0200
TZOFFSETTO:+0100
TZNAME:CET
DTSTART:20241027T010000
END:STANDARD
BEGIN:DAYLIGHT
TZOFFSETFROM:+0100
TZOFFSETTO:+0200
TZNAME:CEST
DTSTART:20250330T010000
END:DAYLIGHT
BEGIN:STANDARD
TZOFFSETFROM:+0200
TZOFFSETTO:+0100
TZNAME:CET
DTSTART:20251026T010000
END:STANDARD
BEGIN:DAYLIGHT
TZOFFSETFROM:+0100
TZOFFSETTO:+0200
TZNAME:CEST
DTSTART:20260329T010000
END:DAYLIGHT
BEGIN:STANDARD
TZOFFSETFROM:+0200
TZOFFSETTO:+0100
TZNAME:CET
DTSTART:20261025T010000
END:STANDARD
END:VTIMEZONE
BEGIN:VEVENT
DTSTART;TZID=Europe/Berlin:20251016T120000
DTEND;TZID=Europe/Berlin:20251016T130000
DTSTAMP:20260421T052337
CREATED:20250929T121534Z
LAST-MODIFIED:20250929T121534Z
UID:10000705-1760616000-1760619600@www.demokratie-vielfalt-respekt.de
SUMMARY:Digitale Praxissession: Mädchenbeteiligung - Warum ist Beteiligung eine Geschlechterfrage?
DESCRIPTION:[vc_row][vc_column][vc_column_text css=““]Mädchen und Frauen beteiligen sich in der Regel weniger in klassischen politischen Arenen als Männer. Auch in Jugendbeteiligungsprozessen sollten Mädchen gezielt angesprochen und berücksichtigt werden\, denn ob und wie Menschen sich politisch einbringen und den öffentlichen Raum wahrnehmen\, hängt in großem Maße mit dem Geschlecht zusammen. Wie das geht? Darüber wird in der digitalen Praxissession gemeinsam mit Dominik Ringler\, Leiter des Kompetenzzentrum für Kinder- und Jugendbeteiligung Brandenburg und Liza Ruschin\, Amtsleitung Gemeindeplanung Blankenfelde-Mahlow gesprochen. \nWeitere Informationen sowie die Anmeldung finden Sie auf der Webseite der fellows and friends der Hertie-Stiftung.[/vc_column_text][/vc_column][/vc_row][vc_row][vc_column width=“2/3″][vc_column_text css=““]Kontakt\nGemeinnützige Hertie-Stiftung\nNetzwerk Jugend entscheidet\nE-Mail: jugendentscheidet@ghst.de\nWeb: www.jugendentscheidet.de \nQuelle: www.fellows-ghst.de/praxissession (29.09.2025)[/vc_column_text][/vc_column][vc_column width=“1/3″][vc_single_image source=“featured_image“ css=““][/vc_column][/vc_row]
URL:https://www.demokratie-vielfalt-respekt.de/veranstaltung/digitale-praxissession-maedchenbeteiligung-warum-ist-beteiligung-eine-geschlechterfrage/
LOCATION:Online
ATTACH;FMTTYPE=image/png:https://www.demokratie-vielfalt-respekt.de/wp-content/uploads/2025/09/hertie_fellowsfriends.png
END:VEVENT
END:VCALENDAR