BEGIN:VCALENDAR
VERSION:2.0
PRODID:-//Demokratie Vielfalt Respekt - ECPv6.15.20//NONSGML v1.0//EN
CALSCALE:GREGORIAN
METHOD:PUBLISH
X-WR-CALNAME:Demokratie Vielfalt Respekt
X-ORIGINAL-URL:https://www.demokratie-vielfalt-respekt.de
X-WR-CALDESC:Veranstaltungen für Demokratie Vielfalt Respekt
REFRESH-INTERVAL;VALUE=DURATION:PT1H
X-Robots-Tag:noindex
X-PUBLISHED-TTL:PT1H
BEGIN:VTIMEZONE
TZID:Europe/Berlin
BEGIN:DAYLIGHT
TZOFFSETFROM:+0100
TZOFFSETTO:+0200
TZNAME:CEST
DTSTART:20240331T010000
END:DAYLIGHT
BEGIN:STANDARD
TZOFFSETFROM:+0200
TZOFFSETTO:+0100
TZNAME:CET
DTSTART:20241027T010000
END:STANDARD
BEGIN:DAYLIGHT
TZOFFSETFROM:+0100
TZOFFSETTO:+0200
TZNAME:CEST
DTSTART:20250330T010000
END:DAYLIGHT
BEGIN:STANDARD
TZOFFSETFROM:+0200
TZOFFSETTO:+0100
TZNAME:CET
DTSTART:20251026T010000
END:STANDARD
BEGIN:DAYLIGHT
TZOFFSETFROM:+0100
TZOFFSETTO:+0200
TZNAME:CEST
DTSTART:20260329T010000
END:DAYLIGHT
BEGIN:STANDARD
TZOFFSETFROM:+0200
TZOFFSETTO:+0100
TZNAME:CET
DTSTART:20261025T010000
END:STANDARD
END:VTIMEZONE
BEGIN:VEVENT
DTSTART;TZID=Europe/Berlin:20251126T150000
DTEND;TZID=Europe/Berlin:20251127T180000
DTSTAMP:20260422T122852
CREATED:20251112T105751Z
LAST-MODIFIED:20251112T105751Z
UID:10000773-1764169200-1764266400@www.demokratie-vielfalt-respekt.de
SUMMARY:LAV-Fortbildung: Kolonialismus und seine Folgen - Diskriminierungssensibel lehren
DESCRIPTION:[vc_row][vc_column][vc_column_text css=““]Die Fortbildung umfasst einen Einführungsteil sowie drei thematische Module mit einer Gesamtdauer von sechs Stunden. Ziel ist es\, Grundlagenwissen zu den Themen Kolonialismus\, struktureller Rassismus\, „Othering“\, intersektionale Diskriminierung und postkoloniale Machtverhältnisse zu vermitteln – stets in Verbindung mit aktuellen gesellschaftlichen Fragen. \nEin besonderer Fokus liegt auf der Einbindung der kamerunischen Perspektive: Historische Fallbeispiele wie die Geschichte von Rudolf Manga Bell\, die kolonialen Verflechtungen zwischen Kamerun und Deutschland sowie deren Bedeutung für heutige politische\, wirtschaftliche und kulturelle Realitäten stehen im Zentrum. Dazu werden konkrete didaktische Materialien\, die in Zusammenarbeit mit einem Gymnasium und einer Berufsschule in Kamerun entstanden sind\, integriert. \nDie Fortbildung verfolgt einen interaktiven und praxisorientierten Ansatz: Neben theoretischem Input sind Diskussionen\, Kleingruppenarbeiten\, die Analyse historischer Quellen\, Bildungsmaterialien und Reflexionsübungen zentrale Bestandteile. Dabei werden Methoden vorgestellt\, wie komplexe Themen wie Kolonialismus\, Dekolonisierung oder globale Ungleichheit altersgerecht und kontextbezogen behandelt werden können. \nFür Verpflegung ist gesorgt. Die Fortbildung ist unter der Nummer 25.2-121835 online zu finden. Interessierte können sich ab sofort per E-Mail anmelden: info@lav-berlin.de[/vc_column_text][/vc_column][/vc_row][vc_row][vc_column width=“2/3″][vc_column_text]Kontakt\nLandesnetzwerk Afrikanischer Vereine e.V. (LAV)\nE-Mail: info@lav-berlin.de\nTel: (030) 407 575 53\nWeb: www.lav-berlin.de \nQuelle: Mail vom 11.11.2025 (12.11.2025) [/vc_column_text][/vc_column][vc_column width=“1/3″][vc_single_image source=“featured_image“ add_caption=“yes“ css=“.vc_custom_1762945041199{padding-bottom: 70px !important;}“][/vc_column][/vc_row]
URL:https://www.demokratie-vielfalt-respekt.de/veranstaltung/lav-fortbildung-kolonialismus-und-seine-folgen-diskriminierungssensibel-lehren/
LOCATION:Dialog-Haus\, Lindower Str. 18\, Berlin\, Berlin\, 13347\, Germany
ATTACH;FMTTYPE=image/jpeg:https://www.demokratie-vielfalt-respekt.de/wp-content/uploads/2025/11/LAV-logo.jpeg
ORGANIZER;CN="Landesnetzwerk Afrikanischer Vereine e.V. (LAV)":MAILTO:info@lav-berlin.de
END:VEVENT
END:VCALENDAR