BEGIN:VCALENDAR
VERSION:2.0
PRODID:-//Demokratie Vielfalt Respekt - ECPv6.15.20//NONSGML v1.0//EN
CALSCALE:GREGORIAN
METHOD:PUBLISH
X-ORIGINAL-URL:https://www.demokratie-vielfalt-respekt.de
X-WR-CALDESC:Veranstaltungen für Demokratie Vielfalt Respekt
REFRESH-INTERVAL;VALUE=DURATION:PT1H
X-Robots-Tag:noindex
X-PUBLISHED-TTL:PT1H
BEGIN:VTIMEZONE
TZID:Europe/Berlin
BEGIN:DAYLIGHT
TZOFFSETFROM:+0100
TZOFFSETTO:+0200
TZNAME:CEST
DTSTART:20220327T010000
END:DAYLIGHT
BEGIN:STANDARD
TZOFFSETFROM:+0200
TZOFFSETTO:+0100
TZNAME:CET
DTSTART:20221030T010000
END:STANDARD
BEGIN:DAYLIGHT
TZOFFSETFROM:+0100
TZOFFSETTO:+0200
TZNAME:CEST
DTSTART:20230326T010000
END:DAYLIGHT
BEGIN:STANDARD
TZOFFSETFROM:+0200
TZOFFSETTO:+0100
TZNAME:CET
DTSTART:20231029T010000
END:STANDARD
BEGIN:DAYLIGHT
TZOFFSETFROM:+0100
TZOFFSETTO:+0200
TZNAME:CEST
DTSTART:20240331T010000
END:DAYLIGHT
BEGIN:STANDARD
TZOFFSETFROM:+0200
TZOFFSETTO:+0100
TZNAME:CET
DTSTART:20241027T010000
END:STANDARD
END:VTIMEZONE
BEGIN:VEVENT
DTSTART;TZID=Europe/Berlin:20230606T100000
DTEND;TZID=Europe/Berlin:20230606T160000
DTSTAMP:20260420T140256
CREATED:20230509T083549Z
LAST-MODIFIED:20230509T083827Z
UID:10000211-1686045600-1686067200@www.demokratie-vielfalt-respekt.de
SUMMARY:Fachtag Mädchen*beteiligung: Partizipation aus der Sicht von Mädchen* neu denken
DESCRIPTION:[vc_row][vc_column][vc_column_text]Die Beteiligung von Kindern und Jugendlichen an allen sie berührenden Angelegenheiten ist nicht nur in der UN-Kinderrechtskonvention festgeschrieben. Auch zur Kinder- und Jugendbeteiligung in Deutschland und den einzelnen Bundesländern gibt es bereits Analysen\, Studien und Handlungsempfehlungen für Städte\, Gemeinden und Landkreise. So wurden ebenfalls die Lebenswelten von Mädchen* und ihre Bedürfnisse wurden vielfach mit unterschiedlichen Forschungsdesigns untersucht. Hingegen liegen weniger Erkenntnisse und Methoden über die Beteiligung von Mädchen* und jungen Frauen* in den skizzierten Strukturen vor. \nDie Perspektiven von Mädchen* und jungen Frauen* – so die Rückmeldungen aus der Praxis der Jugend-\, aber auch der Gleichstellungsarbeit – scheinen sich von denen von Jungen* und jungen Männern* zu unterscheiden\, beispielsweise bezüglich der Gestaltung des öffentlichen Raumes. Doch woran liegt das? Sind es die Zugänge zu Beteiligungsstrukturen? Sind es die Strukturen an sich – oder gar die politische Praxis\, die sie hemmen oder abschrecken? Oder sind es tatsächlich die kommunalen Themen\, die nicht den Nerv der Mädchen* und jungen Frauen* treffen? Und welche Verbindungslinien gibt es zwischen der Einbindung von Mädchen* im Zuge von Jugendbeteiligung\, der Arbeit von Gleichstellungsbeauftragten und der parteilichen Mädchen*arbeit als Handlungsfeld der Jugendarbeit? \nDiese Fragen werden im ersten bundesweiten Fachtag Mädchen*beteiligung des Kompetenzzentrums Kinder- und Jugendbeteiligung Brandenburg und der Bundesstiftung Gleichstellung diskutiert. Die Impulsvorträge\, Diskussionsrunden und Workshops richten sich ebenso an Menschen aus der Jugendbeteiligung\, der Jugendarbeit oder der Mädchen*arbeit wie an Praktiker:innen und Multiplikator:innen\, an Politik und Verwaltung oder an Stadtplaner:innen und Gleichstellungsbeauftragte. \nDie Teilnahme am Workshop ist kostenlos. Eine Online-Anmeldung ist notwendig. Weitere Informationen zum Programm finden Sie hier.[/vc_column_text][/vc_column][/vc_row][vc_row][vc_column width=“1/2″][vc_column_text]Kontakt\nKompetenzzentrum Kinder- und Jugendbeteiligung Brandenburg\nE-Mail: anmeldung@kijubb.de\nWeb: www.jugendbeteiligung-brandenburg.de \nQuelle: Fachtagung Mädchen*beteiligung 2023 (eveeno.com) (09.05.2023)[/vc_column_text][/vc_column][vc_column width=“1/2″][vc_single_image source=“featured_image“ add_caption=“yes“][/vc_column][/vc_row]
URL:https://www.demokratie-vielfalt-respekt.de/veranstaltung/fachtag-maedchenbeteiligung/
LOCATION:GLS Campus Berlin\, Kastanienallee 82\, 10435
ATTACH;FMTTYPE=image/png:https://www.demokratie-vielfalt-respekt.de/wp-content/uploads/2023/05/KiJuBe_Brandenburg.png
ORGANIZER;CN="Kompetenzzentrum Kinder- und Jugenbeteligung Brandenbrg":MAILTO:anmeldung@kijubb.de
END:VEVENT
END:VCALENDAR