BEGIN:VCALENDAR
VERSION:2.0
PRODID:-//Demokratie Vielfalt Respekt - ECPv6.15.20//NONSGML v1.0//EN
CALSCALE:GREGORIAN
METHOD:PUBLISH
X-ORIGINAL-URL:https://www.demokratie-vielfalt-respekt.de
X-WR-CALDESC:Veranstaltungen für Demokratie Vielfalt Respekt
REFRESH-INTERVAL;VALUE=DURATION:PT1H
X-Robots-Tag:noindex
X-PUBLISHED-TTL:PT1H
BEGIN:VTIMEZONE
TZID:Europe/Berlin
BEGIN:DAYLIGHT
TZOFFSETFROM:+0100
TZOFFSETTO:+0200
TZNAME:CEST
DTSTART:20230326T010000
END:DAYLIGHT
BEGIN:STANDARD
TZOFFSETFROM:+0200
TZOFFSETTO:+0100
TZNAME:CET
DTSTART:20231029T010000
END:STANDARD
BEGIN:DAYLIGHT
TZOFFSETFROM:+0100
TZOFFSETTO:+0200
TZNAME:CEST
DTSTART:20240331T010000
END:DAYLIGHT
BEGIN:STANDARD
TZOFFSETFROM:+0200
TZOFFSETTO:+0100
TZNAME:CET
DTSTART:20241027T010000
END:STANDARD
BEGIN:DAYLIGHT
TZOFFSETFROM:+0100
TZOFFSETTO:+0200
TZNAME:CEST
DTSTART:20250330T010000
END:DAYLIGHT
BEGIN:STANDARD
TZOFFSETFROM:+0200
TZOFFSETTO:+0100
TZNAME:CET
DTSTART:20251026T010000
END:STANDARD
END:VTIMEZONE
BEGIN:VEVENT
DTSTART;TZID=Europe/Berlin:20241212T150000
DTEND;TZID=Europe/Berlin:20241212T180000
DTSTAMP:20260421T190156
CREATED:20240927T072037Z
LAST-MODIFIED:20240927T072037Z
UID:10000494-1734015600-1734026400@www.demokratie-vielfalt-respekt.de
SUMMARY:Fortbildung: Auf den Spuren des Widerstandes gegen Rassismus
DESCRIPTION:[vc_row][vc_column][vc_column_text css=““]Die Fortbildungen geben Lehrer:innen und Lehramtsstudent:innen Anstöße\, wie die Themen Rassismus und Kolonialismus im Unterricht behandelt werden können. Dafür wird der Bildungscomic „Widerstand“ sowie interaktive Methoden für den Unterricht vorgestellt. Die Materialien können mit Schüler:innen ab 15 Jahren eingesetzt werden. Konkret werden folgende Fragen diskutiert: Wie spreche ich mit Schüler:innen über den Zusammenhang zwischen Rassismus und Kolonialismus? Welche konkreten Beispiele gibt es für koloniale Kontinuitäten? Und wie gestaltet sich antikolonialer Widerstand? \nDie Fortbildung wird an zwei Terminen als Präsenzveranstaltung angeboten: \n\n05. Dezember: Exklusiv für Englischlehrer:innen/Lehramtsstudent:innen. Die Veranstaltung findet in englischer Sprache statt.\n12. Dezember: Für alle Lehrkräfte/Lehramtsstudent:innen offen.\n\nWeitere Informationen zur Fortbildung und die Möglichkeit zur Anmeldung erhalten Sie auf der Webseite der Initiative Perspektivwechsel.[/vc_column_text][/vc_column][/vc_row][vc_row][vc_column width=“2/3″][vc_column_text css=““]Kontakt\nInitiative Perspektivwechsel e.V.\nE-Mail: info@initiativeperspektivwechsel.de\nWeb: www.initiative-perspektivwechsel.org \nQuelle: www.initiative-perspektivwechsel.org/fortbildung (27.09.2024)[/vc_column_text][/vc_column][vc_column width=“1/3″][vc_single_image source=“featured_image“ css=““][/vc_column][/vc_row]
URL:https://www.demokratie-vielfalt-respekt.de/veranstaltung/initiative-perspektivwechsel-fortbildung-widerstand-gegen-rassismus/2024-12-12/
LOCATION:Berlin Global Village\, Am Sudhaus 2\, Berlin\, 12053
ATTACH;FMTTYPE=image/png:https://www.demokratie-vielfalt-respekt.de/wp-content/uploads/2023/03/initiative-perspektivwechsel_24.png
ORGANIZER;CN="Initiative Perspektivwechsel e.V.":MAILTO:info@initiativeperspektivwechsel.de
END:VEVENT
BEGIN:VEVENT
DTSTART;TZID=Europe/Berlin:20241205T150000
DTEND;TZID=Europe/Berlin:20241205T180000
DTSTAMP:20260421T190156
CREATED:20240927T072037Z
LAST-MODIFIED:20240927T072037Z
UID:10000493-1733410800-1733421600@www.demokratie-vielfalt-respekt.de
SUMMARY:Fortbildung: Auf den Spuren des Widerstandes gegen Rassismus
DESCRIPTION:[vc_row][vc_column][vc_column_text css=““]Die Fortbildungen geben Lehrer:innen und Lehramtsstudent:innen Anstöße\, wie die Themen Rassismus und Kolonialismus im Unterricht behandelt werden können. Dafür wird der Bildungscomic „Widerstand“ sowie interaktive Methoden für den Unterricht vorgestellt. Die Materialien können mit Schüler:innen ab 15 Jahren eingesetzt werden. Konkret werden folgende Fragen diskutiert: Wie spreche ich mit Schüler:innen über den Zusammenhang zwischen Rassismus und Kolonialismus? Welche konkreten Beispiele gibt es für koloniale Kontinuitäten? Und wie gestaltet sich antikolonialer Widerstand? \nDie Fortbildung wird an zwei Terminen als Präsenzveranstaltung angeboten: \n\n05. Dezember: Exklusiv für Englischlehrer:innen/Lehramtsstudent:innen. Die Veranstaltung findet in englischer Sprache statt.\n12. Dezember: Für alle Lehrkräfte/Lehramtsstudent:innen offen.\n\nWeitere Informationen zur Fortbildung und die Möglichkeit zur Anmeldung erhalten Sie auf der Webseite der Initiative Perspektivwechsel.[/vc_column_text][/vc_column][/vc_row][vc_row][vc_column width=“2/3″][vc_column_text css=““]Kontakt\nInitiative Perspektivwechsel e.V.\nE-Mail: info@initiativeperspektivwechsel.de\nWeb: www.initiative-perspektivwechsel.org \nQuelle: www.initiative-perspektivwechsel.org/fortbildung (27.09.2024)[/vc_column_text][/vc_column][vc_column width=“1/3″][vc_single_image source=“featured_image“ css=““][/vc_column][/vc_row]
URL:https://www.demokratie-vielfalt-respekt.de/veranstaltung/initiative-perspektivwechsel-fortbildung-widerstand-gegen-rassismus/2024-12-05/
LOCATION:Berlin Global Village\, Am Sudhaus 2\, Berlin\, 12053
ATTACH;FMTTYPE=image/png:https://www.demokratie-vielfalt-respekt.de/wp-content/uploads/2023/03/initiative-perspektivwechsel_24.png
ORGANIZER;CN="Initiative Perspektivwechsel e.V.":MAILTO:info@initiativeperspektivwechsel.de
END:VEVENT
END:VCALENDAR