BEGIN:VCALENDAR
VERSION:2.0
PRODID:-//Demokratie Vielfalt Respekt - ECPv6.15.20//NONSGML v1.0//EN
CALSCALE:GREGORIAN
METHOD:PUBLISH
X-ORIGINAL-URL:https://www.demokratie-vielfalt-respekt.de
X-WR-CALDESC:Veranstaltungen für Demokratie Vielfalt Respekt
REFRESH-INTERVAL;VALUE=DURATION:PT1H
X-Robots-Tag:noindex
X-PUBLISHED-TTL:PT1H
BEGIN:VTIMEZONE
TZID:Europe/Berlin
BEGIN:DAYLIGHT
TZOFFSETFROM:+0100
TZOFFSETTO:+0200
TZNAME:CEST
DTSTART:20240331T010000
END:DAYLIGHT
BEGIN:STANDARD
TZOFFSETFROM:+0200
TZOFFSETTO:+0100
TZNAME:CET
DTSTART:20241027T010000
END:STANDARD
BEGIN:DAYLIGHT
TZOFFSETFROM:+0100
TZOFFSETTO:+0200
TZNAME:CEST
DTSTART:20250330T010000
END:DAYLIGHT
BEGIN:STANDARD
TZOFFSETFROM:+0200
TZOFFSETTO:+0100
TZNAME:CET
DTSTART:20251026T010000
END:STANDARD
BEGIN:DAYLIGHT
TZOFFSETFROM:+0100
TZOFFSETTO:+0200
TZNAME:CEST
DTSTART:20260329T010000
END:DAYLIGHT
BEGIN:STANDARD
TZOFFSETFROM:+0200
TZOFFSETTO:+0100
TZNAME:CET
DTSTART:20261025T010000
END:STANDARD
END:VTIMEZONE
BEGIN:VEVENT
DTSTART;VALUE=DATE:20251201
DTEND;VALUE=DATE:20251206
DTSTAMP:20260422T105639
CREATED:20251001T101751Z
LAST-MODIFIED:20251001T101751Z
UID:10000706-1764547200-1764979199@www.demokratie-vielfalt-respekt.de
SUMMARY:#interlab+ – Toolbox für interkulturelle Zusammenarbeit
DESCRIPTION:[vc_row][vc_column][vc_column_text css=““]#interlab+ – Toolbox für interkulturelle Zusammenarbeit bietet einen Raum\, um die eigenen Erfahrungen zu reflektieren\, neue Perspektiven zu gewinnen und mit praktischen Methoden zu experimentieren. Das Training hilft nicht nur\, selbstbewusster mit Herausforderungen umzugehen\, sondern gibt auch das Rüstzeug an die Hand\, um die Chancen\, die Vielfalt in internationalen Projekten mit sich bringt\, voll auszuschöpfen. Am Ende des Trainings steht ein gebrauchsfertiger „Werkzeugkasten für interkulturelle Zusammenarbeit“ – praktische Methoden und Ansätze\, die helfen\, Missverständnisse zu reduzieren\, die positive Zusammenarbeit zu stärken und die internationale Arbeit der Teilnehmenden effektiver\, angenehmer und inspirierender zu gestalten. \nBegleitprogramm: \n\nAufbau neuer Partnerschaften und Netzwerke für Erasmus+-Projekte für die Jugend oder das Europäische Solidaritätskorps\nWarschau und die polnische Kultur durch gemeinsame soziale und kulturelle Aktivitäten kennenlernen\n\nInformationen zur Veranstaltung \n\nVeranstalter: Foundation for the Development of the Education System (Nationale Agentur)\nSprache: Englisch\nKriterien für Teilnehmende:\n\nJugendarbeiter:innen\, Führungskräfte\, Projektkoordinator:innen und Mentor;innen mit Erfahrung in der Organisation und Leitung verschiedener kurz- und langfristiger internationaler Mobilitätsprojekte im Rahmen der Programme Erasmus+ Jugend und des Europäischen Solidaritätskorps\nTeilnehmende aus Programm- und Partnerländern\nEngagiertes Engagement während der gesamten Schulungsaktivität\n\n\n\nAblauf \n\nAnkunft: 1. Dezember (Willkommensdinner und eine kurze Einführungssitzung am Abend)\nProgrammtage: 2.-4. Dezember\nAbreise: 5. Dezember (nach dem Frühstück)\nVeranstaltungsort: Warschau\, Polen\n\n\nDieses Projekt wird von den teilnehmenden Nationalen Agenturen (NAs) des Erasmus+ Programms Jugend in Aktion finanziert. Die Teilnahmegebühr ist von Land zu Land unterschiedlich. Interessierte wenden sich bitte an die zuständige Nationale Agentur oder das SALTO Resource Centre (SALTO)\, um mehr über die Teilnahmegebühr für Teilnehmer:innen aus ihrem Land zu erfahren. Die polnische Nationale Agentur für die Programme Erasmus+ und das Europäische Solidaritätskorps wird die Unterbringung organisieren und die Kosten für Unterkunft und Verpflegung übernehmen. Reisekosten können von der zuständigen NA oder SALTO übernommen werden. Die Teilnehmenden haben das Recht\, vom Veranstalter ein Youthpass-Zertifikat zu erhalten\, mit dem ihre Kompetenzentwicklung während der Aktivität anerkannt wird. \nWeitere Informationen befinden sich auf der Webseite von SALTO-YOUTH. Die kostenlose Anmeldung ist online noch bis zum 12.10.2025 möglich. \n\n[/vc_column_text][/vc_column][/vc_row][vc_row][vc_column width=“2/3″][vc_column_text css=““]Kontakt\nFoundation for the Development of the Education System (FRSE)\nAnsprechperson: Emil Al-Khawaldeh\nE-Mail: emil.al-khawaldeh@frse.org.pl\nTel.: +48 511 569 759\nWeb: www.frse.org.pl \nQuelle: www.salto-youth.net/interlab-toolbox-for-intercultural-cooperation (01.10.2025)[/vc_column_text][/vc_column][vc_column width=“1/3″][vc_single_image source=“featured_image“ add_caption=“yes“ css=““][/vc_column][/vc_row]
URL:https://www.demokratie-vielfalt-respekt.de/veranstaltung/frse-interlab-toolbox-fuer-interkulturelle-zusammenarbeit/
LOCATION:Warschau\, Warschau\, Poland
ATTACH;FMTTYPE=image/png:https://www.demokratie-vielfalt-respekt.de/wp-content/uploads/2025/10/FRSE-logo.png
ORGANIZER;CN="Foundation for the Development of the Education System (FRSE)":MAILTO:kontakt@frse.org.pl
END:VEVENT
END:VCALENDAR