BEGIN:VCALENDAR
VERSION:2.0
PRODID:-//Demokratie Vielfalt Respekt - ECPv6.15.20//NONSGML v1.0//EN
CALSCALE:GREGORIAN
METHOD:PUBLISH
X-WR-CALNAME:Demokratie Vielfalt Respekt
X-ORIGINAL-URL:https://www.demokratie-vielfalt-respekt.de
X-WR-CALDESC:Veranstaltungen für Demokratie Vielfalt Respekt
REFRESH-INTERVAL;VALUE=DURATION:PT1H
X-Robots-Tag:noindex
X-PUBLISHED-TTL:PT1H
BEGIN:VTIMEZONE
TZID:Europe/Berlin
BEGIN:DAYLIGHT
TZOFFSETFROM:+0100
TZOFFSETTO:+0200
TZNAME:CEST
DTSTART:20220327T010000
END:DAYLIGHT
BEGIN:STANDARD
TZOFFSETFROM:+0200
TZOFFSETTO:+0100
TZNAME:CET
DTSTART:20221030T010000
END:STANDARD
BEGIN:DAYLIGHT
TZOFFSETFROM:+0100
TZOFFSETTO:+0200
TZNAME:CEST
DTSTART:20230326T010000
END:DAYLIGHT
BEGIN:STANDARD
TZOFFSETFROM:+0200
TZOFFSETTO:+0100
TZNAME:CET
DTSTART:20231029T010000
END:STANDARD
BEGIN:DAYLIGHT
TZOFFSETFROM:+0100
TZOFFSETTO:+0200
TZNAME:CEST
DTSTART:20240331T010000
END:DAYLIGHT
BEGIN:STANDARD
TZOFFSETFROM:+0200
TZOFFSETTO:+0100
TZNAME:CET
DTSTART:20241027T010000
END:STANDARD
END:VTIMEZONE
BEGIN:VEVENT
DTSTART;TZID=Europe/Berlin:20230623T100000
DTEND;TZID=Europe/Berlin:20230623T173000
DTSTAMP:20260421T104448
CREATED:20230315T082938Z
LAST-MODIFIED:20230316T084259Z
UID:10000177-1687514400-1687541400@www.demokratie-vielfalt-respekt.de
SUMMARY:Tagung: "12. Baustelle Inklusion"
DESCRIPTION:[vc_row][vc_column][vc_column_text]Auf der „12. Baustelle Inklusion“ am 23.06.2023 soll es nach drei Jahren digitalem Arbeiten nun endlich wieder genügend Raum für persönlichen Austausch auf einer Präsenz-Tagung geben. Das Kompetenznetzwerk Demokratiebildung im Kindesalter richtet einen diskriminierungskritischen Blick auf Partizipation\, denn Diskriminierung ist mit dem Erleben von Ausschluss und Abwertung verbunden und behindert Zugehörigkeit und Beteiligung. Diskriminierung festigt außerdem bestehende Machtverhältnisse. Dennoch wird Diskriminierung in der Diskussion um Partizipation und in Partizipationskonzepten von Kitas und Schulen kaum berücksichtigt. Auf der Tagung werden sich folgende Fragen gestellt: \n\nWelche Ausschlüsse gibt es beim Zugang zu Kitas und Schulen?\nWelche Ausdrucksformen finden in den Einrichtungen Beachtung und werden anerkannt\, welche eher nicht?\nWas tun\, wenn Ausschlüsse in Beteiligungsprozessen passieren\, in denen bestimmte Kinder und Familien nicht erreicht werden?\nWelche Beteiligungsformen braucht es\, um alle Kinder und ihre Bezugspersonen zu beteiligen?\nWie kann Partizipation inklusiv sein?\n\nAn die Tagung ist eine Reihe von Online-Workshops in der Woche vom 26.06.-30.06.2023 (via Zoom) gebunden. In den Workshops werden verschiedene Diskriminierungsformen genauer thematisiert. Das detaillierte (Workshop-)Programm findnen Sie hier. \nAuf der Tagung ist für vegetarische Verpflegung sowie Getränke gesorgt. Der Fachtag wird in deutsche Gebärdensprache übersetzt. Wenn Sie eine Übersetzung in deutsche Gebärdensprache benötigen\, ist eine frühzeitige Anmeldung erwünscht\, damit wir der Bedarf gut gewährleistet werden kann.  \nFür die Teilnahme an der Tagung und den Workshops ist eine Online-Anmeldung notwendig. Die Teilnahmegebühr für das Tagesprogramm und einen weiteren Online-Workshop betragen: 100€ für Trägerfinanzierung\, 80€ für Selbstzahler*innen oder 40€ als ermäßigter Beitrag für Geringverdienende\, Studierende o. ä. Die Kosten für jeden weiteren Workshop betragen 20€.[/vc_column_text][/vc_column][/vc_row][vc_row][vc_column width=“1/2″][vc_column_text]Kontakt\nAnsprechperson: Susann Ratzsch\nTel.: 0176 436 737 61\nE-Mail: baustelle@kinderwelten.net \nQuelle: situationsansatz.de (15.03.2023)[/vc_column_text][/vc_column][vc_column width=“1/2″][vc_single_image source=“featured_image“][/vc_column][/vc_row]
URL:https://www.demokratie-vielfalt-respekt.de/veranstaltung/tagung-12-baustelle-inklusion/
LOCATION:Berliner Stadtmission\, Lehrter Straße 68\, Berlin\, Berlin\, 10557\, Deutschland
ATTACH;FMTTYPE=image/png:https://www.demokratie-vielfalt-respekt.de/wp-content/uploads/2023/03/Tagung_Partizipation_Kopetenznetzwerk_Demokratiebildung.png
ORGANIZER;CN="DEKI - Kompetenznetzwerk Demokratiebildung im Kindesalter":MAILTO:kompetenznetzwerk@dkhw.de
END:VEVENT
END:VCALENDAR