BEGIN:VCALENDAR
VERSION:2.0
PRODID:-//Demokratie Vielfalt Respekt - ECPv6.15.20//NONSGML v1.0//EN
CALSCALE:GREGORIAN
METHOD:PUBLISH
X-ORIGINAL-URL:https://www.demokratie-vielfalt-respekt.de
X-WR-CALDESC:Veranstaltungen für Demokratie Vielfalt Respekt
REFRESH-INTERVAL;VALUE=DURATION:PT1H
X-Robots-Tag:noindex
X-PUBLISHED-TTL:PT1H
BEGIN:VTIMEZONE
TZID:Europe/Berlin
BEGIN:DAYLIGHT
TZOFFSETFROM:+0100
TZOFFSETTO:+0200
TZNAME:CEST
DTSTART:20240331T010000
END:DAYLIGHT
BEGIN:STANDARD
TZOFFSETFROM:+0200
TZOFFSETTO:+0100
TZNAME:CET
DTSTART:20241027T010000
END:STANDARD
BEGIN:DAYLIGHT
TZOFFSETFROM:+0100
TZOFFSETTO:+0200
TZNAME:CEST
DTSTART:20250330T010000
END:DAYLIGHT
BEGIN:STANDARD
TZOFFSETFROM:+0200
TZOFFSETTO:+0100
TZNAME:CET
DTSTART:20251026T010000
END:STANDARD
BEGIN:DAYLIGHT
TZOFFSETFROM:+0100
TZOFFSETTO:+0200
TZNAME:CEST
DTSTART:20260329T010000
END:DAYLIGHT
BEGIN:STANDARD
TZOFFSETFROM:+0200
TZOFFSETTO:+0100
TZNAME:CET
DTSTART:20261025T010000
END:STANDARD
END:VTIMEZONE
BEGIN:VEVENT
DTSTART;TZID=Europe/Berlin:20251204T170000
DTEND;TZID=Europe/Berlin:20251204T200000
DTSTAMP:20260422T081727
CREATED:20251125T110612Z
LAST-MODIFIED:20251125T110612Z
UID:10000776-1764867600-1764878400@www.demokratie-vielfalt-respekt.de
SUMMARY:Vom Zuschauer zum Mitgestalter: Der lange Weg Afrikas in den UN-Sicherheitsrat
DESCRIPTION:[vc_row][vc_column][vc_column_text css=““]Afrika ist in den globalen Machtgremien unterrepräsentiert. Dieser Umstand zeigt sich besonders in der Zusammensetzung und Arbeitsweise internationaler Organisationen wie dem Sicherheitsrat der Vereinten Nationen\, der Weltbank oder der Weltgesundheitsorganisation. Die daraus resultierende strukturelle Benachteiligung führt dazu\, dass die Perspektiven und Interessen afrikanischer Länder in internationalen Entscheidungsprozessen häufig nicht ausreichend berücksichtigt werden\, was die Umsetzung nachhaltiger Entwicklungsmaßnahmen erheblich erschwert. Bei der Generalversammlung der Vereinten Nationen im September 2025 wurde die Forderung erneut mit Nachdruck vorgetragen: Eine angemessene Vertretung Afrikas im Sicherheitsrat ist nicht nur überfällig\, sondern unverzichtbar. Dafür lädt das Bündnis für Entwicklungspolitik mit Afrika e.V. (BEA) zu einer Podiumsdiskussion zum Thema „Vom Zuschauer zum Mitgestalter: Der lange Weg Afrikas in den UN-Sicherheitsrat“ ein und stellt unter anderem folgende Fragen: Warum bleibt Afrikas berechtigter Anspruch auf repräsentativere Mitsprache im UN-Sicherheitsrat weiterhin eine Herausforderung? Welche Auswirkung hat die mangelnde Repräsentation Afrikas auf die Legitimität und die Wirksamkeit des Sicherheitsrats? Die Veranstaltung findet im Kurt-Schumacher-Haus statt und wird auf Deutsch mit französischer Simultanübersetzung durchgeführt. Interessierte werden gebeten\, bei der Anmeldung anzugeben\, ob Sie vor Ort teilnehmen oder sich online zuschalten möchten. Die Anmeldefrist für die Diskussionsveranstaltung endet am 3. Dezember. \nWeitere Informationen zur Diskussionsveranstaltung sowie zur Anmeldung finden Sie auf der Webseite von BEA e.V.[/vc_column_text][/vc_column][/vc_row][vc_row][vc_column width=“2/3″][vc_column_text css=““]Kontakt \nBündnis für Entwicklungspolitik mit Afrika e.V. (BEA)\nE-Mail: office@bea-ev.org\nWeb: www.bea-ev.org \nQuelle: www.bea-ev.org/diskussion (25.11.2025)[/vc_column_text][/vc_column][vc_column width=“1/3″][vc_single_image source=“featured_image“ css=““][/vc_column][/vc_row]
URL:https://www.demokratie-vielfalt-respekt.de/veranstaltung/vom-zuschauer-zum-mitgestalter-der-lange-weg-afrikas-in-den-un-sicherheitsrat/
LOCATION:Kurt-Schumacher-Haus\, Müllerstraße 163\, Berlin\, Berlin-Wedding und Online\, 13353
ATTACH;FMTTYPE=image/png:https://www.demokratie-vielfalt-respekt.de/wp-content/uploads/2025/11/bea_logo.png
END:VEVENT
END:VCALENDAR