BEGIN:VCALENDAR
VERSION:2.0
PRODID:-//Demokratie Vielfalt Respekt - ECPv6.15.20//NONSGML v1.0//EN
CALSCALE:GREGORIAN
METHOD:PUBLISH
X-ORIGINAL-URL:https://www.demokratie-vielfalt-respekt.de
X-WR-CALDESC:Veranstaltungen für Demokratie Vielfalt Respekt
REFRESH-INTERVAL;VALUE=DURATION:PT1H
X-Robots-Tag:noindex
X-PUBLISHED-TTL:PT1H
BEGIN:VTIMEZONE
TZID:Europe/Berlin
BEGIN:DAYLIGHT
TZOFFSETFROM:+0100
TZOFFSETTO:+0200
TZNAME:CEST
DTSTART:20210328T010000
END:DAYLIGHT
BEGIN:STANDARD
TZOFFSETFROM:+0200
TZOFFSETTO:+0100
TZNAME:CET
DTSTART:20211031T010000
END:STANDARD
BEGIN:DAYLIGHT
TZOFFSETFROM:+0100
TZOFFSETTO:+0200
TZNAME:CEST
DTSTART:20220327T010000
END:DAYLIGHT
BEGIN:STANDARD
TZOFFSETFROM:+0200
TZOFFSETTO:+0100
TZNAME:CET
DTSTART:20221030T010000
END:STANDARD
BEGIN:DAYLIGHT
TZOFFSETFROM:+0100
TZOFFSETTO:+0200
TZNAME:CEST
DTSTART:20230326T010000
END:DAYLIGHT
BEGIN:STANDARD
TZOFFSETFROM:+0200
TZOFFSETTO:+0100
TZNAME:CET
DTSTART:20231029T010000
END:STANDARD
END:VTIMEZONE
BEGIN:VEVENT
DTSTART;VALUE=DATE:20221109
DTEND;VALUE=DATE:20221110
DTSTAMP:20260421T053835
CREATED:20221215T145349Z
LAST-MODIFIED:20221230T153408Z
UID:10000067-1667952000-1668038399@www.demokratie-vielfalt-respekt.de
SUMMARY:Argumentationstraining gegen Parolen und Populismus
DESCRIPTION:Rassistische Bemerkungen\, menschenverachtende Sprüche und populistische Parolen begegnen uns überall: im öffentlichen Nahverkehr\, am Arbeitsplatz oder im Familienkreis. \nIm Argumentationstraining wird erarbeitet\, wie man auf menschenverachtende\, ausgrenzende oder verschwörungstheoretisch populistische Parolen und Sprüche angemessen reagieren kann. Die große Herausforderung\, gerade in der Sozialen Arbeit\, ist dabei\, zu signalisieren\, dass man das hinter den Äußerungen stehende Weltbild nicht teilt\, und dennoch weiter mit dem Gegenüber im Gespräch bleiben möchte. \nWeitere Informationen sowie die Möglichkeit zur Anmeldung finden sich hier. \nQuelle: www.berlin.de/politische-bildung (01.11.2022) \nKontakt\nBerliner Landeszentrale für politische Bildung\nAnsprechperson: Reinhard Fischer\nTel.: (030) 90227 4962\nE-Mail: reinhard.fischer@senbjf.berlin.de
URL:https://www.demokratie-vielfalt-respekt.de/veranstaltung/argumentationstraining-gegen-parolen-und-populismus/
LOCATION:Köln und Berlin
ORGANIZER;CN="Berliner Landeszentrale f%C3%BCr politische Bildung":MAILTO:landeszentrale@senbjf.berlin.de
END:VEVENT
END:VCALENDAR